BEGIN:VCALENDAR
VERSION:2.0
PRODID:-//ChamberMaster//Event Calendar 2.0//EN
METHOD:PUBLISH
X-PUBLISHED-TTL:P3D
REFRESH-INTERVAL:P3D
CALSCALE:GREGORIAN
BEGIN:VEVENT
DTSTART:20260212T233000Z
DTEND:20260213T040000Z
X-MICROSOFT-CDO-ALLDAYEVENT:FALSE
SUMMARY:101 Central Apres Ski Club
DESCRIPTION:Welcome to 101 Central Apr s Ski Club\, the spot to meet up\, warm up\, and level up your night. Settle in with a relaxed mix of games\, movies\, and music for an easygoing start to the night. Then ride the vibe into a dance party with Glacier DJ. Whether you're hanging with friends or making new ones\, it's the perfect winter mix.\n\nCome to chill\, stay to dance.
X-ALT-DESC;FMTTYPE=text/html:<span style="color:rgb(0\, 0\, 0)\; font-family:arial\; font-size:10pt">Welcome to 101 Central Apr&egrave\;s Ski Club\, the spot to meet up\, warm up\, and level up your night. Settle in with a relaxed mix of games\, movies\, and music for an easygoing start to the night. Then ride the vibe into a dance party with Glacier DJ. Whether you&#39\;re hanging with friends or making new ones\, it&rsquo\;s the perfect winter mix.<br />\nCome to chill\, stay to dance.</span>
LOCATION:101 Central Ave Whitefish\, MT 59937 Second Story
UID:e.148.77931
SEQUENCE:3
DTSTAMP:20260422T215830Z
URL:https://business.whitefishchamber.org/events/details/101-central-apres-ski-club-77931
END:VEVENT

END:VCALENDAR
