BEGIN:VCALENDAR
VERSION:2.0
PRODID:-//ChamberMaster//Event Calendar 2.0//EN
METHOD:PUBLISH
X-PUBLISHED-TTL:P3D
REFRESH-INTERVAL:P3D
CALSCALE:GREGORIAN
BEGIN:VEVENT
DTSTART:20250601T013000Z
DTEND:20250601T040000Z
X-MICROSOFT-CDO-ALLDAYEVENT:FALSE
SUMMARY:A TASTE OF IRELAND - THE IRISH MUSIC & DANCE SENSATION
DESCRIPTION:After premiering Off-Broadway last season\, 'A Taste of Ireland?The Irish Music & Dance Sensation' returns to stages across the USA in 2025\, performing the show that has entertained thousands around the globe. Laugh\, cry and jig into the night with a production that is Celtic\, for this generation.\n\n\n\nPerformed by former World Irish dance champions and featuring dancers from Lord of the Dance and Riverdance\, 'A Taste of Ireland' transports the audience through the story of Ireland's tumultuous history delivered with a pint of Irish wit. Watch world-class performers blend melodic folk mashups\, live jaw-dropping acapella tap battles and heartwarming story telling. Featuring revamped classics of Danny Boy\, Tell Me Ma\, Wild Rover\, and many more well-known songs\, the show's reimagined contemporary score blossoms alongside the brash Irish charm of the live dance cast. 'A Taste of Ireland' merges cultural traditions\, modern flair\, and craic galore\, to deliver a performance that has been leaving audiences across the globe jigging on their feet for the last decade.\n\n\n\nWith over one hundred and fifty 5-star Facebook reviews\, 'A Taste of Ireland' is exactly what it promises: a taste of everything you love about Ireland with a generous helping of more! 'A Taste of Ireland' is a show with 100% live singing and dancing that bridges the gap between storytelling\, modern Irish dance\, tap and contemporary dance to tell a historic story\, live on stage.
X-ALT-DESC;FMTTYPE=text/html:<p><span style="color:rgb(0\, 0\, 0)\; font-family:-apple-system\,blinkmacsystemfont\,segoe ui\,roboto\,helvetica neue\,arial\,noto sans\,sans-serif\,apple color emoji\,segoe ui emoji\,segoe ui symbol\,noto color emoji\; font-size:16px"><span style="font-size:14px"><span style="font-family:arial\,helvetica\,sans-serif">After premiering Off-Broadway last season\, &lsquo\;A Taste of Ireland?The Irish Music &amp\; Dance Sensation&rsquo\; returns to stages across the USA in 2025\, performing the show that has entertained thousands around the globe. Laugh\, cry and jig into the night with a production that is Celtic\, for this generation.<br />\n<br />\nPerformed by former World Irish dance champions and featuring dancers from Lord of the Dance and Riverdance\, &lsquo\;A Taste of Ireland&rsquo\; transports the audience through the story of Ireland&rsquo\;s tumultuous history delivered with a pint of Irish wit. Watch world-class performers blend melodic folk mashups\, live jaw-dropping acapella tap battles and heartwarming story telling. Featuring revamped classics of&nbsp\;<em>Danny Boy\, Tell Me Ma\, Wild Rover</em>\, and many more well-known songs\, the show&rsquo\;s reimagined contemporary score blossoms alongside the brash Irish charm of the live dance cast. &lsquo\;A Taste of Ireland&rsquo\; merges cultural traditions\, modern flair\, and craic galore\, to deliver a performance that has been leaving audiences across the globe jigging on their feet for the last decade.<br />\n<br />\nWith over one hundred and fifty 5-star Facebook reviews\, &lsquo\;A Taste of Ireland&rsquo\; is exactly what it promises: a taste of everything you love about Ireland with a generous helping of more! &rsquo\;A Taste of Ireland&rsquo\; is a show with 100% live singing and dancing that bridges the gap between storytelling\, modern Irish dance\, tap and contemporary dance to tell a historic story\, live on stage.</span></span></span><br />\n&nbsp\;</p>\n
LOCATION:Wachholz College Center @ Flathead Valley Community College
UID:e.148.74784
SEQUENCE:3
DTSTAMP:20260422T155434Z
URL:https://business.whitefishchamber.org/events/details/a-taste-of-ireland-the-irish-music-dance-sensation-74784
END:VEVENT

END:VCALENDAR
