BEGIN:VCALENDAR
VERSION:2.0
PRODID:-//ChamberMaster//Event Calendar 2.0//EN
METHOD:PUBLISH
X-PUBLISHED-TTL:P3D
REFRESH-INTERVAL:P3D
CALSCALE:GREGORIAN
BEGIN:VEVENT
DTSTART:20251118T020000Z
DTEND:20251118T033000Z
X-MICROSOFT-CDO-ALLDAYEVENT:FALSE
SUMMARY:A Winter Recital
DESCRIPTION:Come hear the fabulous and multi-talented faculty of North Valley Music School.\n\nAn evening of beautiful music.
X-ALT-DESC;FMTTYPE=text/html:Come hear the fabulous and multi-talented faculty of North Valley Music School.<br />\nAn evening of beautiful music.
LOCATION:1988 River Lakes Parkway Whitefish\, MT 406-862-8074
UID:e.148.76713
SEQUENCE:3
DTSTAMP:20260422T181938Z
URL:https://business.whitefishchamber.org/events/details/a-winter-recital-76713
END:VEVENT

END:VCALENDAR
