BEGIN:VCALENDAR
VERSION:2.0
PRODID:-//ChamberMaster//Event Calendar 2.0//EN
METHOD:PUBLISH
X-PUBLISHED-TTL:P3D
REFRESH-INTERVAL:P3D
CALSCALE:GREGORIAN
BEGIN:VEVENT
DTSTART:20260226T013000Z
DTEND:20260226T030000Z
X-MICROSOFT-CDO-ALLDAYEVENT:FALSE
SUMMARY:Acoustic Jam Session at North Valley Music School
DESCRIPTION:Come and join your neighbors in an acoustic jam session.
X-ALT-DESC;FMTTYPE=text/html:Come and join your neighbors in an acoustic jam session.
LOCATION:1998 River Lakes Parkway Whitefish\, MT 59937
UID:e.148.77177
SEQUENCE:3
DTSTAMP:20260422T221159Z
URL:https://business.whitefishchamber.org/events/details/acoustic-jam-session-at-north-valley-music-school-02-25-2026-77177
END:VEVENT

END:VCALENDAR
