BEGIN:VCALENDAR
VERSION:2.0
PRODID:-//ChamberMaster//Event Calendar 2.0//EN
METHOD:PUBLISH
X-PUBLISHED-TTL:P3D
REFRESH-INTERVAL:P3D
CALSCALE:GREGORIAN
BEGIN:VEVENT
DTSTART;VALUE=DATE:20260515
DTEND;VALUE=DATE:20260516
TRANSP:TRANSPARENT
X-MICROSOFT-CDO-ALLDAYEVENT:TRUE
SUMMARY:Aesthetica Med Spa Pop Up
DESCRIPTION:Enhance natural beauty with subtle\, high quality treatments
X-ALT-DESC;FMTTYPE=text/html:Enhance natural beauty with subtle\, high quality treatments&nbsp\;
LOCATION:101 Central Whitefish Montana 59937
UID:e.148.83583
SEQUENCE:3
DTSTAMP:20260423T002059Z
URL:https://business.whitefishchamber.org/events/details/aesthetica-med-spa-pop-up-83583
END:VEVENT

END:VCALENDAR
