BEGIN:VCALENDAR
VERSION:2.0
PRODID:-//ChamberMaster//Event Calendar 2.0//EN
METHOD:PUBLISH
X-PUBLISHED-TTL:P3D
REFRESH-INTERVAL:P3D
CALSCALE:GREGORIAN
BEGIN:VEVENT
DTSTART:20260213T020000Z
DTEND:20260222T220000Z
X-MICROSOFT-CDO-ALLDAYEVENT:FALSE
SUMMARY:Alpine Theatre Project Presents Lady Day at the Emerson Bar and Grill
DESCRIPTION:A powerful\, intimate musical that captures one of Billie Holiday's final performances\, weaving her iconic songs with raw\, personal stories of triumph and heartbreak.\n\nThis show won't just be a performance it will be an experience. We're transforming the entire venue into Emerson's Bar and Grill\, immersing the audience in Billie Holiday's world from the moment they walk through the door."\n\nStarring Angela Wildflower Angela is a professional actor and singer whose credits include her Broadway debut as Mary Wells in Motown The Musical\, along with appearances on Atlanta\, Blue Bloods\, and Netflix's Roxanne Roxanne.\n\nShe is also an award-recognized teaching artist and speaker who leads creative and motivational programs for young performers across the country.
X-ALT-DESC;FMTTYPE=text/html:<p>A powerful\, intimate musical that captures one of Billie Holiday&rsquo\;s final performances\, weaving her iconic songs with raw\, personal stories of triumph and heartbreak.</p>\n\n<p>This show won&rsquo\;t just be a performance&mdash\;it will be an experience. We&rsquo\;re transforming the entire venue into Emerson&rsquo\;s Bar and Grill\, immersing the audience in Billie Holiday&rsquo\;s world from the moment they walk through the door.&quot\;</p>\n\n<p><strong><em>Starring Angela Wildflower</em></strong> Angela is a professional actor and singer whose credits include her Broadway debut as Mary Wells in <em>Motown The Musical</em>\, along with appearances on <em>Atlanta</em>\, <em>Blue Bloods</em>\, and Netflix&rsquo\;s <em>Roxanne Roxanne</em>.</p>\n\n<p>She is also an award-recognized teaching artist and speaker who leads creative and motivational programs for young performers across the country.</p>\n
LOCATION:Performances at ATP's Studios: Mountain Center Mall 6475 Hwy 93 South Suite 14 Whitefish\, MT 59937
UID:e.148.83060
SEQUENCE:3
DTSTAMP:20260422T221619Z
URL:https://business.whitefishchamber.org/events/details/alpine-theatre-project-presents-lady-day-at-the-emerson-bar-and-grill-83060
END:VEVENT

END:VCALENDAR
