BEGIN:VCALENDAR
VERSION:2.0
PRODID:-//ChamberMaster//Event Calendar 2.0//EN
METHOD:PUBLISH
X-PUBLISHED-TTL:P3D
REFRESH-INTERVAL:P3D
CALSCALE:GREGORIAN
BEGIN:VEVENT
DTSTART:20251017T180000Z
DTEND:20251019T180000Z
X-MICROSOFT-CDO-ALLDAYEVENT:FALSE
SUMMARY:Alpine Threatre Project Kids Present Madagascar Jr
DESCRIPTION:The fun-filled musical adventure based on the DreamWorks animated film\, following Alex the Lion\, Marty the Zebra\, Gloria the Hippo\, and Melman the Giraffe as they escape from the zoo and embark on a wild journey to Madagascar.
X-ALT-DESC;FMTTYPE=text/html:The fun-filled musical adventure based on the DreamWorks animated film\, following Alex the Lion\, Marty the Zebra\, Gloria the Hippo\, and Melman the Giraffe as they escape from the zoo and embark on a wild journey to Madagascar.
LOCATION:Whitefish Performance Center 127 Spokane Ave Whitefish\, MT
UID:e.148.76272
SEQUENCE:3
DTSTAMP:20260422T170349Z
URL:https://business.whitefishchamber.org/events/details/alpine-threatre-project-kids-present-madagascar-jr-76272
END:VEVENT

END:VCALENDAR
