BEGIN:VCALENDAR
VERSION:2.0
PRODID:-//ChamberMaster//Event Calendar 2.0//EN
METHOD:PUBLISH
X-PUBLISHED-TTL:P3D
REFRESH-INTERVAL:P3D
CALSCALE:GREGORIAN
BEGIN:VEVENT
DTSTART:20260609T013000Z
DTEND:20260609T030000Z
X-MICROSOFT-CDO-ALLDAYEVENT:FALSE
SUMMARY:An Evening of Classical Favorites featuring ZeidwiG
DESCRIPTION:Internationally acclaimed classical piano virtuoso Mitchell Zeidwig\, professionally known as ZeidwiG\, brings his artistry to the North Valley Music School in Whitefish for a special one-night performance to benefit the school.\n\nHailed by the media as "breathtaking\, poetic\, sensational\, genius\, and perfect\," as well as "masterful\, thrilling\, mesmerizing\, extraordinary\, and uplifting\," ZeidwiG has earned distinction for his originality\, interpretive insight\, and expressive depth.\n\n\n\nZeidwiG has performed on many of the world's most prestigious stages\, including sold-out appearances at Carnegie Hall\, and has been featured as a guest soloist with major symphony orchestras such as the Munich Philharmonic\, the Nuremberg Symphony Orchestra\, and the Boston Pops.\n\n\n\nZeidwiG trained at McGill University\, the Juilliard School\, and Purchase College. His program for this special event will feature classical favorites drawn from his extensive repertoire. A meet-the-artist reception will follow the performance. Admission is free. However\, all donations will benefit the NVMS. This one night only event is not to be missed!
X-ALT-DESC;FMTTYPE=text/html:<span style="color:rgb(36\, 36\, 36)\; font-family:verdana\,helvetica\,sans-serif\; font-size:16px">Internationally acclaimed classical piano virtuoso Mitchell Zeidwig\, professionally known as ZeidwiG\, brings his artistry to the North Valley Music School in Whitefish for a special one-night performance to benefit the school.</span><br />\n<span style="color:rgb(36\, 36\, 36)\; font-family:verdana\,helvetica\,sans-serif\; font-size:16px">Hailed by the media as &ldquo\;breathtaking\, poetic\, sensational\, genius\, and perfect\,&rdquo\; as well as &ldquo\;masterful\, thrilling\, mesmerizing\, extraordinary\, and uplifting\,&rdquo\; ZeidwiG has earned distinction for his originality\, interpretive insight\, and expressive depth.</span><br />\n<br />\n<span style="color:rgb(36\, 36\, 36)\; font-family:verdana\,helvetica\,sans-serif\; font-size:16px">ZeidwiG has performed on many of the world&rsquo\;s most prestigious stages\, including sold-out appearances at Carnegie Hall\, and has been featured as a guest soloist with major symphony orchestras such as the Munich Philharmonic\, the Nuremberg Symphony Orchestra\, and the Boston Pops.</span><br />\n<br />\n<span style="color:rgb(36\, 36\, 36)\; font-family:verdana\,helvetica\,sans-serif\; font-size:16px">ZeidwiG trained at McGill University\, the Juilliard School\, and Purchase College. His program for this special event will feature classical favorites drawn from his extensive repertoire. A meet-the-artist reception will follow the performance. Admission is free. However\, all donations will benefit the NVMS. This one night only event is not to be missed!&nbsp\;</span>
LOCATION:North Valley Music School\, 1998 River Lakes Pkwy\, Whitefish\, MT 59937
UID:e.148.83576
SEQUENCE:3
DTSTAMP:20260423T120303Z
URL:https://business.whitefishchamber.org/events/details/an-evening-of-classical-favorites-featuring-zeidwig-83576
END:VEVENT

END:VCALENDAR
