BEGIN:VCALENDAR
VERSION:2.0
PRODID:-//ChamberMaster//Event Calendar 2.0//EN
METHOD:PUBLISH
X-PUBLISHED-TTL:P3D
REFRESH-INTERVAL:P3D
CALSCALE:GREGORIAN
BEGIN:VEVENT
DTSTART:20251207T020000Z
DTEND:20251207T043000Z
X-MICROSOFT-CDO-ALLDAYEVENT:FALSE
SUMMARY:Beauties and the Beasts
DESCRIPTION:December 6th we're bringing back the hottest night of broncs\, bulls and barrel racers to battle it out. Featuring world\, region\, and state champion professional bull riders\, saddle bronc riders\, barrel racers\, and livestock from the PBR\, NRA and INFR. VIP tickets and tables are limited and are going to sell out fast so get your tickets now!
X-ALT-DESC;FMTTYPE=text/html:December 6th we&#39\;re bringing back the hottest night of broncs\, bulls and barrel racers to battle it out. Featuring world\, region\, and state champion professional bull riders\, saddle bronc riders\, barrel racers\, and livestock from the PBR\, NRA and INFR. VIP tickets and tables are limited and are going to sell out fast so get your tickets now!
LOCATION:Majestic Valley Arena
UID:e.148.76622
SEQUENCE:3
DTSTAMP:20260422T193613Z
URL:https://business.whitefishchamber.org/events/details/beauties-and-the-beasts-12-06-2025-76622
END:VEVENT

END:VCALENDAR
