BEGIN:VCALENDAR
VERSION:2.0
PRODID:-//ChamberMaster//Event Calendar 2.0//EN
METHOD:PUBLISH
X-PUBLISHED-TTL:P3D
REFRESH-INTERVAL:P3D
CALSCALE:GREGORIAN
BEGIN:VEVENT
DTSTART:20251115T000000Z
DTEND:20251115T030000Z
X-MICROSOFT-CDO-ALLDAYEVENT:FALSE
SUMMARY:Blackstar Pint Night Glacier Nordic Pass Pickup
DESCRIPTION:Come by for a pint in support of Glacier Nordic Club and pick up and/or purchase your season pass for this winter!
X-ALT-DESC;FMTTYPE=text/html:Come by for a pint in support of Glacier Nordic Club and pick up and/or purchase your season pass for this winter!
LOCATION:Blackstar Brew Pub 2 Central Ave\, Whitefish
UID:e.148.76613
SEQUENCE:3
DTSTAMP:20260422T170131Z
URL:https://business.whitefishchamber.org/events/details/blackstar-pint-night-pass-pickup-76613
END:VEVENT

END:VCALENDAR
