BEGIN:VCALENDAR
VERSION:2.0
PRODID:-//ChamberMaster//Event Calendar 2.0//EN
METHOD:PUBLISH
X-PUBLISHED-TTL:P3D
REFRESH-INTERVAL:P3D
CALSCALE:GREGORIAN
BEGIN:VEVENT
DTSTART:20260225T010000Z
DTEND:20260225T023000Z
X-MICROSOFT-CDO-ALLDAYEVENT:FALSE
SUMMARY:Bluegrass Jam Session at North Valley Music School
DESCRIPTION:Come play and sing with your neighbors from the community.
X-ALT-DESC;FMTTYPE=text/html:Come play and sing with your neighbors from the community.
LOCATION:1998 River Lakes Parkway Whitefish\, MT 59937
UID:e.148.76975
SEQUENCE:3
DTSTAMP:20260422T220536Z
URL:https://business.whitefishchamber.org/events/details/bluegrass-jam-session-at-north-valley-music-school-02-24-2026-76975
END:VEVENT

END:VCALENDAR
