BEGIN:VCALENDAR
VERSION:2.0
PRODID:-//ChamberMaster//Event Calendar 2.0//EN
METHOD:PUBLISH
X-PUBLISHED-TTL:P3D
REFRESH-INTERVAL:P3D
CALSCALE:GREGORIAN
BEGIN:VEVENT
DTSTART:20260215T020000Z
DTEND:20260215T043000Z
X-MICROSOFT-CDO-ALLDAYEVENT:FALSE
SUMMARY:Brash Rodeo Winter Series
DESCRIPTION:Rodeo has been a part of Montana's culture since the first cowboys arrived over 150 years ago. Our events include bull riding\, saddle bronc\, ranch bronc\, bareback\, team roping\, breakaway roping\, barrel racing and steer riding. We are Western Montana's longest running series open rodeo. See you at the arena!
X-ALT-DESC;FMTTYPE=text/html:Rodeo has been a part of Montana&rsquo\;s culture since the first cowboys arrived over 150 years ago. Our events include bull riding\, saddle bronc\, ranch bronc\, bareback\, team roping\, breakaway roping\, barrel racing and steer riding. We are Western Montana&rsquo\;s longest running series open rodeo. See you at the arena!
LOCATION:Majestic Valley Arena
UID:e.148.76632
SEQUENCE:3
DTSTAMP:20260422T215829Z
URL:https://business.whitefishchamber.org/events/details/brash-rodeo-winter-series-02-14-2026-76632
END:VEVENT

END:VCALENDAR
