BEGIN:VCALENDAR
VERSION:2.0
PRODID:-//ChamberMaster//Event Calendar 2.0//EN
METHOD:PUBLISH
X-PUBLISHED-TTL:P3D
REFRESH-INTERVAL:P3D
CALSCALE:GREGORIAN
BEGIN:VEVENT
DTSTART;VALUE=DATE:20251106
DTEND;VALUE=DATE:20251107
TRANSP:TRANSPARENT
X-MICROSOFT-CDO-ALLDAYEVENT:TRUE
SUMMARY:Building Grit and Community: The Red Ants Pants Revolution with Sarah Calhoun | Episode #53 on the IWD406 Podcast
DESCRIPTION:Building Grit and Community: The Red Ants Pants Revolution with Sarah Calhoun | Episode #53 on the IWD406 Podcast\n\nThe IWD406 Podcast\, Montana's premier platform celebrating women's stories of leadership\, innovation\, and community\, proudly presents its 53rd episode featuring Sarah Calhoun   founder of Red Ants Pants\, the Red Ants Pants Foundation\, and the Red Ants Pants Music Festival in White Sulphur Springs\, Montana.\n\nIn this inspiring conversation\, Sarah shares how reading Ivan Doig's classic memoir This House of Sky sparked her move west and fueled her vision to build something bold\, practical\, and empowering for women who work hard and lead with purpose. From designing durable workwear that actually fits women to creating one of Montana's most beloved rural music festivals\, Sarah's story is a testament to what happens when determination meets heart.\n\nListeners will gain insight into how she built a brand and community from the ground up   one that uplifts women\, supports small-town economies\, and keeps Montana's spirit of resilience alive.\n\nThis episode is sponsored by Outside Metro in Whitefish\, where "you stay where the locals play." With over 500 five-star Google reviews and no booking fees\, Outside Metro connects travelers to the true Montana experience through authentic hospitality and local connection.\n\nListen to the full episode at www.iwd406.com/podcast or on YouTube @IWD406MontanaWomen.\n\nFollow @theiwd406podcast and join the movement celebrating Montana women shaping our communities with courage\, creativity\, and grit.\n\nCurious about Sponsorship?\n\nPartner with IWD406 to have your business featured across our growing podcast\, social media\, and video platforms.\n\nWe offer 12-episode advertising packages that align your brand with stories that inspire\, educate\, and connect communities across Montana.\n\n?? Contact us at iwd406@gmail.com or visit www.iwd406.com to learn more about partnership and sponsorship opportunities.
X-ALT-DESC;FMTTYPE=text/html:<h3><strong>Building Grit and Community: The Red Ants Pants Revolution with Sarah Calhoun | Episode #53 on the IWD406 Podcast</strong></h3>\n\n<p>The <strong>IWD406 Podcast</strong>\, Montana&rsquo\;s premier platform celebrating women&rsquo\;s stories of leadership\, innovation\, and community\, proudly presents its 53rd episode featuring <strong>Sarah Calhoun</strong> &mdash\; founder of <em>Red Ants Pants</em>\, the <em>Red Ants Pants Foundation</em>\, and the <em>Red Ants Pants Music Festival</em> in White Sulphur Springs\, Montana.</p>\n\n<p>In this inspiring conversation\, Sarah shares how reading <strong>Ivan Doig&rsquo\;s classic memoir <em>This House of Sky</em></strong> sparked her move west and fueled her vision to build something bold\, practical\, and empowering for women who work hard and lead with purpose. From designing durable workwear that <em>actually fits women</em> to creating one of Montana&rsquo\;s most beloved rural music festivals\, Sarah&rsquo\;s story is a testament to what happens when determination meets heart.</p>\n\n<p>Listeners will gain insight into how she built a brand and community from the ground up &mdash\; one that uplifts women\, supports small-town economies\, and keeps Montana&rsquo\;s spirit of resilience alive.</p>\n\n<p>This episode is sponsored by <strong>Outside Metro in Whitefish</strong>\, where &ldquo\;you stay where the locals play.&rdquo\; With over 500 five-star Google reviews and no booking fees\, Outside Metro connects travelers to the true Montana experience through authentic hospitality and local connection.</p>\n\n<p>Listen to the full episode at <strong><a class="decorated-link" href="http://www.iwd406.com/podcast" rel="noopener" target="_new">www.iwd406.com/podcast</a></strong> or on <strong>YouTube @IWD406MontanaWomen.</strong><br />\nFollow <strong>@theiwd406podcast</strong> and join the movement celebrating Montana women shaping our communities with courage\, creativity\, and grit.</p>\n\n<p><strong>Curious about Sponsorship?</strong><br />\nPartner with <strong>IWD406</strong> to have your business featured across our growing podcast\, social media\, and video platforms.<br />\nWe offer <strong>12-episode advertising packages</strong> that align your brand with stories that inspire\, educate\, and connect communities across Montana.</p>\n\n<p>?? Contact us at <strong>iwd406@gmail.com</strong> or visit <strong><a class="decorated-link" href="http://www.iwd406.com" rel="noopener" target="_new">www.iwd406.com</a></strong> to learn more about partnership and sponsorship opportunities.</p>\n
LOCATION:https://iwd406.com/podcast/
UID:e.148.76611
SEQUENCE:3
DTSTAMP:20260422T172312Z
URL:https://business.whitefishchamber.org/events/details/building-grit-and-community-the-red-ants-pants-revolution-with-sarah-calhoun-episode-53-on-the-iwd406-podcast-76611
END:VEVENT

END:VCALENDAR
