BEGIN:VCALENDAR
VERSION:2.0
PRODID:-//ChamberMaster//Event Calendar 2.0//EN
METHOD:PUBLISH
X-PUBLISHED-TTL:P3D
REFRESH-INTERVAL:P3D
CALSCALE:GREGORIAN
BEGIN:VEVENT
DTSTART:20250506T140000Z
DTEND:20250506T154500Z
X-MICROSOFT-CDO-ALLDAYEVENT:FALSE
SUMMARY:Business Breakfast - Where do we GROW from here?
DESCRIPTION:Where do we GROW from here?\n\n\n\nThat's the question at the top of everyone's minds these days ... and it's the question we'll dig into at the Chamber's next "Business Breakfast" on Tuesday May 6 at the Whitefish Moose Lodge.\n\n\n\nWhile the pace of development in town has slowed a bit from the whirlwind we experienced post-pandemic\, there's no doubt that residential and commercial developers still have their eye on Whitefish.  So it's really not a matter of if our town is going to grow ... it's more a matter of how and where it's going to grow. \n\n\n\nWhitefish Planning Director Dave Taylor will set the stage\, talking about the development that's taken place in recent years\, and what's already "in the hopper" for 2o25 and beyond.\n\n\n\nNext we'll hear from a panel of "experts" in the real estate\, construction and development arenas\, to hear their thoughts on where Whitefish is headed over the next few years.  \n\n\n\nFinally\, Growth Policy Update ramrod Alan Tiefenbach will talk about the ongoing effort to revamp the City's official Growth Policy\, which will have a lot to say about where\, what and how Whitefish will grow in the future.\n\n\n\nSo join us on May 6 for a "Business Breakfast" at the Moose Lodge\, and help us answer the question   Where do we GROW from here?\n\n\n\nTickets for the May 6th Business Breakfast at the Moose Lodge in Whitefish are $20\, and include a full buffet breakfast.  RSVPs are a must\, so register now to reserve your spot!
X-ALT-DESC;FMTTYPE=text/html:<strong><span style="font-size:18.0pt\;">Where do we <em><u>GROW</u></em> from here?</span></strong><br />\n<br />\n<span style="font-size:14px\;"><span style="font-family:verdana\;">That&#39\;s the question at the top of everyone&#39\;s minds these days ... and it&#39\;s the question we&#39\;ll dig into at the Chamber&#39\;s next &quot\;Business Breakfast&quot\; on Tuesday May 6 at the Whitefish Moose Lodge.<br />\n<br />\nWhile the pace of development in town has slowed a bit from the whirlwind we experienced post-pandemic\, there&#39\;s no doubt that residential and commercial developers still have their eye on Whitefish.&nbsp\; So it&#39\;s really not a matter of if our town is going to grow ... it&#39\;s more a matter of how and where it&#39\;s going to grow.&nbsp\;<br />\n<br />\nWhitefish Planning Director Dave Taylor will set the stage\, talking about the development that&#39\;s taken place in recent years\, and what&#39\;s already &quot\;in the hopper&quot\; for 2o25 and beyond.<br />\n<br />\nNext we&#39\;ll hear from a panel of &quot\;experts&quot\; in the real estate\, construction and development arenas\, to hear their thoughts on where Whitefish is headed over the next few years.&nbsp\;&nbsp\;<br />\n<br />\nFinally\, Growth Policy Update ramrod Alan Tiefenbach will talk about the ongoing effort to revamp the City&#39\;s official Growth Policy\, which will have a lot to say about where\, what and how Whitefish will grow in the future.<br />\n<br />\nSo join us on May 6 for a &ldquo\;Business Breakfast&rdquo\; at the Moose Lodge\, and help us answer the question &ndash\; Where do we GROW from here?</span><br />\n<br />\n<em><span style="font-family:verdana\,sans-serif\;"><span style="font-family:verdana\;">Tickets for the May 6th&nbsp\;Business Breakfast at the Moose Lodge in Whitefish are $20\, and include a full buffet breakfast.&nbsp\; RSVPs are a must\, so register now to reserve your spot!</span></span></em></span><br />\n&nbsp\;
LOCATION:Whitefish Moose Lodge #642
UID:e.148.74810
SEQUENCE:3
DTSTAMP:20260422T154152Z
URL:https://business.whitefishchamber.org/events/details/business-breakfast-where-do-we-grow-from-here-74810
END:VEVENT

END:VCALENDAR
