BEGIN:VCALENDAR
VERSION:2.0
PRODID:-//ChamberMaster//Event Calendar 2.0//EN
METHOD:PUBLISH
X-PUBLISHED-TTL:P3D
REFRESH-INTERVAL:P3D
CALSCALE:GREGORIAN
BEGIN:VEVENT
DTSTART:20260205T153000Z
DTEND:20260205T163000Z
X-MICROSOFT-CDO-ALLDAYEVENT:FALSE
SUMMARY:Business Buzz at Haskill Creek Downtown location
DESCRIPTION:Taking place on the first Thursday of each month from 8:30 to 9:30 a.m. at a different local Chamber members business\, the Buzz brings members together to get caffeinated\, hear updates from Chamber staff\, and connect with other local businesses.\n\nSo mark your calendars for "Business Buzz"  Thursday February 5\, at Haskill Creek
X-ALT-DESC;FMTTYPE=text/html:<span style="color: rgb(51\, 51\, 51)\; font-family: sans-serif\, Arial\, Verdana\, &quot\;Trebuchet MS&quot\;\; font-size: 13px\; background-color: rgb(255\, 255\, 255)\;">Taking place on the first Thursday of each month from 8:30 to 9:30 a.m. at a different local Chamber members business\, the Buzz brings members together to get caffeinated\, hear updates from Chamber staff\, and connect with other local businesses.</span><br style="background-color: rgb(255\, 255\, 255)\; color: rgb(38\, 38\, 38)\; font-family: -apple-system\, BlinkMacSystemFont\, &quot\;Segoe UI&quot\;\, Roboto\, Helvetica\, Arial\, sans-serif\; font-size: 14px\;" />\n<span style="background-color: rgb(255\, 255\, 255)\; color: rgb(38\, 38\, 38)\; font-family: -apple-system\, BlinkMacSystemFont\, &quot\;Segoe UI&quot\;\, Roboto\, Helvetica\, Arial\, sans-serif\; font-size: 14px\;">So mark your calendars for &quot\;Business Buzz&quot\;&nbsp\; Thursday February 5\, at Haskill Creek</span>
LOCATION:
UID:e.148.77442
SEQUENCE:3
DTSTAMP:20260422T210117Z
URL:https://business.whitefishchamber.org/events/details/business-buzz-at-tbd-77442
END:VEVENT

END:VCALENDAR
