BEGIN:VCALENDAR
VERSION:2.0
PRODID:-//ChamberMaster//Event Calendar 2.0//EN
METHOD:PUBLISH
X-PUBLISHED-TTL:P3D
REFRESH-INTERVAL:P3D
CALSCALE:GREGORIAN
BEGIN:VEVENT
DTSTART:20260413T000000Z
DTEND:20260413T023000Z
X-MICROSOFT-CDO-ALLDAYEVENT:FALSE
SUMMARY:CIRQUE KALABANTÉ
DESCRIPTION:WCC is pleased to bring CIRQUE KALABANT  to the Flathead Valley.\n\n\n\nAfrique en Cirque is a show by Yamoussa Bangoura\, inspired by daily life in Guinea. This performance shares the beauty\, youth and artistry of African culture. A colorful show beyond its scenery\, costumes and staging\, it makes any theatre vibrate with energy and represents the strength\, agility and life's joys of young Africans. The audience will see acrobats execute gravity-defying moves and human pyramids\, accompanied by the contemporary sounds of live Afro-Jazz\, percussion\, and kora. Welcome to the universe of Kalabant  Productions\, and prepare for an unforgettable journey.
X-ALT-DESC;FMTTYPE=text/html:<span style="color:rgb(63\, 63\, 63)\; font-family:arial\,helvetica\,sans-serif\; font-size:16px"><span style="color:rgb(0\, 0\, 0)">WCC is pleased to bring&nbsp\;CIRQUE KALABANT&Eacute\;&nbsp\;to the Flathead Valley.</span></span><br />\n<br />\n<span style="color:rgb(63\, 63\, 63)\; font-family:-apple-system\,blinkmacsystemfont\,segoe ui\,roboto\,helvetica neue\,arial\,noto sans\,sans-serif\,apple color emoji\,segoe ui emoji\,segoe ui symbol\,noto color emoji\; font-size:12pt"><span style="font-family:aptos\,sans-serif"><span style="font-family:arial\,helvetica\,sans-serif"><span style="color:rgb(0\, 0\, 0)">Afrique en Cirque is a show by Yamoussa Bangoura\, inspired by daily life in Guinea. This performance shares the beauty\, youth and artistry of African culture. A colorful show beyond its scenery\, costumes and staging\, it makes any theatre vibrate with energy and represents the strength\, agility and life&rsquo\;s joys of young Africans. The audience will see acrobats execute gravity-defying moves and human pyramids\, accompanied by the contemporary sounds of live Afro-Jazz\, percussion\, and kora. Welcome to the universe of Kalabant&eacute\; Productions\, and prepare for an unforgettable journey.</span></span></span></span>
LOCATION:Wachholz College Center @ Flathead Valley Community College
UID:e.148.76127
SEQUENCE:3
DTSTAMP:20260423T002418Z
URL:https://business.whitefishchamber.org/events/details/cirque-kalabant&#233;-76127
END:VEVENT

END:VCALENDAR
