BEGIN:VCALENDAR
VERSION:2.0
PRODID:-//ChamberMaster//Event Calendar 2.0//EN
METHOD:PUBLISH
X-PUBLISHED-TTL:P3D
REFRESH-INTERVAL:P3D
CALSCALE:GREGORIAN
BEGIN:VEVENT
DTSTART:20260301T023000Z
DTEND:20260301T040000Z
X-MICROSOFT-CDO-ALLDAYEVENT:FALSE
SUMMARY:Classical Guitar Series with Laura Snowden (United Kingdom)
DESCRIPTION:North Valley Music School (NVMS) is proud to announce its 2026 Classical Guitar Series\, an exceptional new performance series featuring some of the most distinguished classical guitarists in the world to the Flathead Valley. Curated and sponsored by Whitefish resident\, classical guitarist\, and producer James Stroud\, the series represents an extraordinary investment in the artistic vibrancy of Northwest Montana. Laura Snowden is recognized as one of the most distinctive guitarists of her generation. A prot g  of Julian Bream\, she is celebrated for her captivating performances\, original compositions\, and artistic versatility.
X-ALT-DESC;FMTTYPE=text/html:North Valley Music School (NVMS) is proud to announce its 2026 Classical Guitar Series\, an exceptional new performance series featuring some of the most distinguished classical guitarists in the world to the Flathead Valley. Curated and sponsored by Whitefish resident\, classical guitarist\, and producer James Stroud\, the series represents an extraordinary investment in the artistic vibrancy of Northwest Montana. Laura Snowden is recognized as one of the most distinctive guitarists of her generation. A prot&eacute\;g&eacute\; of Julian Bream\, she is celebrated for her captivating performances\, original compositions\, and artistic versatility.
LOCATION:North Valley Music School 1998 River Lakes Pkwy Whitefish\, MT 59937
UID:e.148.78014
SEQUENCE:3
DTSTAMP:20260422T210340Z
URL:https://business.whitefishchamber.org/events/details/classical-guitar-series-with-laura-snowden-united-kingdom-78014
END:VEVENT

END:VCALENDAR
