BEGIN:VCALENDAR
VERSION:2.0
PRODID:-//ChamberMaster//Event Calendar 2.0//EN
METHOD:PUBLISH
X-PUBLISHED-TTL:P3D
REFRESH-INTERVAL:P3D
CALSCALE:GREGORIAN
BEGIN:VEVENT
DTSTART:20251101T000000Z
DTEND:20251101T050000Z
X-MICROSOFT-CDO-ALLDAYEVENT:FALSE
SUMMARY:Craggy Range’s Halloween Patio Party
DESCRIPTION:Downtown's getting spooky and we're right in the middle of it.\n\nJoin us for a Halloween night stacked with DJ REIDARDIE\, a photo booth\, beer pong\, and a stop on the Downtown Whitefish Costume Contest crawl.\n\n\n\nNo cover charge - just good drinks\, loud music\, and patio chaos the Craggy way.\n\n\n\nOh\, and costumes encouraged
X-ALT-DESC;FMTTYPE=text/html:Downtown&rsquo\;s getting spooky and we&rsquo\;re right in the middle of it.<br />\nJoin us for a Halloween night stacked with DJ REIDARDIE\, a photo booth\, beer pong\, and a stop on the Downtown Whitefish Costume Contest crawl.<br />\n<br />\nNo cover charge - just good drinks\, loud music\, and patio chaos the Craggy way.<br />\n<br />\nOh\, and costumes encouraged&nbsp\;
LOCATION:The Craggy Range 10 Central Avenue Downtown Whitefish
UID:e.148.76309
SEQUENCE:3
DTSTAMP:20260422T170228Z
URL:https://business.whitefishchamber.org/events/details/craggy-range-s-halloween-patio-party-76309
END:VEVENT

END:VCALENDAR
