BEGIN:VCALENDAR
VERSION:2.0
PRODID:-//ChamberMaster//Event Calendar 2.0//EN
METHOD:PUBLISH
X-PUBLISHED-TTL:P3D
REFRESH-INTERVAL:P3D
CALSCALE:GREGORIAN
BEGIN:VEVENT
DTSTART:20260301T000000Z
DTEND:20260301T040000Z
X-MICROSOFT-CDO-ALLDAYEVENT:FALSE
SUMMARY:DREAM Adaptive Recreation's Snow Ball Gala 2026
DESCRIPTION:Our BIG event will be Saturday\, February 28th\, 2026 at the Wachholz College Center @ FVCC.\n\nJoin us for an enchanting evening at the Dream with US under the Northern Lights gala\, a signature fundraising event celebrating community\, compassion\, and the spirit of giving. Inspired by the beauty and brilliance of the aurora borealis\, this gala brings together supporters\, partners\, and friends for a night that illuminates hope and creates lasting impact.\n\nThe Northern Lights   with their luminous waves of emerald green\, sapphire blue\, violet\, and gold   evoke mystery\, beauty\, and natural wonder. We encourage guests' attire to reflect these colors and qualities\, creating a breathtaking atmosphere as the crowd itself becomes part of the event's visual story.\n\n\n\nHighlights of the Evening:\n\n\n	Cocktails and Conversation:  Meet the Team DREAM and other amazing community members who support our empowering mission.\n	Delicious Food & Entertainment: Immerse yourself in a night of good vibes and tasty food\n	Impactful Stories: Hear firsthand the transformative stories of individuals whose lives have been touched by DREAM Adaptive Recreation.\n	Auction Extravaganza: Bid on exclusive items and experiences in our silent and live auctions\, hosted by Auctioneer Tomy Parker\n\n\nThis is not just an event\; it's a declaration of our commitment to creating a future where everyone has the opportunity to thrive.\n\n\n\nQuestions?  Please contact Development Manager\, Erich Spitz:  espitz@dreamadaptive.org
X-ALT-DESC;FMTTYPE=text/html:<p>Our BIG event will be&nbsp\;Saturday\, February 28th\, 2026&nbsp\;at the Wachholz College Center @ FVCC.</p>\n\n<p>Join us for an enchanting evening at the&nbsp\;Dream with US under the&nbsp\;Northern Lights&nbsp\;gala\, a signature fundraising event celebrating community\, compassion\, and the spirit of giving. Inspired by the beauty and brilliance of the aurora borealis\, this gala brings together supporters\, partners\, and friends for a night that illuminates hope and creates lasting impact.</p>\n\n<p>The Northern Lights &mdash\; with their luminous waves of emerald green\, sapphire blue\, violet\, and gold &mdash\; evoke mystery\, beauty\, and natural wonder. We encourage guests&rsquo\; attire to reflect these colors and qualities\, creating a breathtaking atmosphere as the crowd itself becomes part of the event&rsquo\;s visual story.</p>\n\n<p><br />\n<span style="color:rgb(9\, 57\, 81)">Highlights of the Evening:</span></p>\n\n<ul>\n	<li>Cocktails and Conversation:&nbsp\;&nbsp\;Meet the Team DREAM and other amazing community members who support our empowering mission.</li>\n	<li>Delicious Food &amp\; Entertainment:&nbsp\;Immerse yourself in a night of good vibes and tasty food</li>\n	<li>Impactful Stories:&nbsp\;Hear firsthand the transformative stories of individuals whose lives have been touched by DREAM Adaptive Recreation.</li>\n	<li>Auction Extravaganza:&nbsp\;Bid on exclusive items and experiences in our silent and live auctions\, hosted by Auctioneer&nbsp\;<a href="https://www.forfreedomfundraising.com/" rel="noopener" style="box-sizing: border-box\; text-decoration-line: none\; transition-property: color\, background-color\, border-color\; transition-duration: 0.2s\; transition-timing-function: linear\; color: rgb(155\, 66\, 41)\;" target="_blank">Tomy Parker</a></li>\n</ul>\n\n<p>This is not just an event\; it&rsquo\;s a declaration of our commitment to creating a future where everyone has the opportunity to thrive.<br />\n<br />\n<span style="color:rgb(68\, 68\, 68)\; font-family:poppins\,sans-serif\; font-size:15px">Questions?&nbsp\; Please contact Development Manager\, Erich Spitz:&nbsp\;&nbsp\;</span><a href="mailto:espitz@dreamadaptive.org" style="box-sizing: border-box\; color: rgb(68\, 68\, 68)\; text-decoration-line: none\; overflow-wrap: break-word\; font-family: Poppins\, sans-serif\; font-size: 15px\; transition-property: color\, background-color\, border-color\; transition-duration: 0.2s\; transition-timing-function: linear\;">espitz@dreamadaptive.org</a></p>\n
LOCATION:Wachholz College Center @ FVCC
UID:e.148.77949
SEQUENCE:3
DTSTAMP:20260422T220207Z
URL:https://business.whitefishchamber.org/events/details/dream-adaptive-recreation-s-snow-ball-gala-2026-77949
END:VEVENT

END:VCALENDAR
