BEGIN:VCALENDAR
VERSION:2.0
PRODID:-//ChamberMaster//Event Calendar 2.0//EN
METHOD:PUBLISH
X-PUBLISHED-TTL:P3D
REFRESH-INTERVAL:P3D
CALSCALE:GREGORIAN
BEGIN:VEVENT
DTSTART;VALUE=DATE:20260213
DTEND;VALUE=DATE:20260214
TRANSP:TRANSPARENT
X-MICROSOFT-CDO-ALLDAYEVENT:TRUE
SUMMARY:Episode #57 | Emergency Preparedness in Montana: Dr. Jeff Muenzer of PrepEM Wild Montanan Questions on the IWD406 Podcast
DESCRIPTION:Episode #57 | Emergency Preparedness in Montana: Dr. Jeff Muenzer of PrepEM Wild Answers Real Listener Questions on the IWD406 Podcast\n\nThe IWD406 Podcast\, Montana's trusted platform amplifying leadership\, expertise\, and community impact\, proudly presents Episode 57 featuring Dr. Jeff Muenzer of PrepEM Wild Inc.\n\nIn this powerful and practical episode\, Dr. Jeff   emergency physician turned emergency preparedness educator   answers real questions submitted by Montana businesses and listeners about what it truly means to be prepared in our state.\n\nMontana's landscape is breathtaking   but it is also remote\, rugged\, and unpredictable. From backcountry recreation to rural living\, preparedness can mean the difference between inconvenience and crisis.\n\nThis episode features a listener question from Montana women-owned business Firearms Handling\, founded by Annah Pharr\, asking about proper organization and storage of emergency kits for real-life accessibility. Dr. Jeff discusses why how you store your kit is just as important as what's inside it.\n\nListeners will gain insight into:\n\n  The most common emergency kit mistakes Montanans make\n\n  How to properly organize kits for high-stress scenarios\n\n  Real stories of unprepared situations in Montana\n\n  Why emergency education matters just as much as equipment\n\n  Practical recommendations for families\, businesses\, and outdoor adventurers\n\nPrepEM Wild Inc. was founded to bridge the gap between emergency medicine and everyday preparedness. Their mission is to equip individuals and communities with high-quality emergency kits and education designed specifically for real-world outdoor and rural environments.\n\nThis episode is a must-listen for anyone living\, working\, or adventuring in Montana.\n\nListen to the full episode at www.iwd406.com/podcast\n\nWatch on YouTube: @IWD406MontanaWomen\n\nFollow: @theiwd406podcast\n\nThank You to Our Podcast Sponsor\n\nThis episode is proudly sponsored by Outside Metro   the premier lodging experience in the Whitefish area. With over 500 five-star reviews\, they offer exceptional stays that blend comfort\, style\, and true Montana hospitality. Whether you're here to ski\, hike\, or simply unwind\, come stay where the locals play and experience Whitefish the way it was meant to be enjoyed.  Bonus:  ****  No booking fees.\n\n\nCurious About Sponsorship?\n\nPartner with IWD406 to have your business featured across our growing podcast\, social media\, and video platforms. We offer 12-episode advertising packages designed to elevate your brand while supporting stories that inspire\, educate\, and strengthen communities across Montana.\n\nNow booking Pass the Mic Sponsors for the IWD406 Podcast\n\nContact us at iwd406@gmail.com\n\nVisit www.iwd406.com to learn more\n\n\nAbout IWD406:\n\nIWD406 is a Montana-based storytelling and media platform dedicated to amplifying the voices of women shaping business\, culture\, community\, and leadership across the state through podcasts\, editorial features\, and digital publication.
X-ALT-DESC;FMTTYPE=text/html:<h2>Episode #57 | Emergency Preparedness in Montana: Dr. Jeff Muenzer of PrepEM Wild Answers Real Listener Questions on the IWD406 Podcast</h2>\n\n<p>The IWD406 Podcast\, Montana&rsquo\;s trusted platform amplifying leadership\, expertise\, and community impact\, proudly presents Episode 57 featuring Dr. Jeff Muenzer of PrepEM Wild Inc.</p>\n\n<p>In this powerful and practical episode\, Dr. Jeff &mdash\; emergency physician turned emergency preparedness educator &mdash\; answers real questions submitted by Montana businesses and listeners about what it truly means to be prepared in our state.</p>\n\n<p>Montana&rsquo\;s landscape is breathtaking &mdash\; but it is also remote\, rugged\, and unpredictable. From backcountry recreation to rural living\, preparedness can mean the difference between inconvenience and crisis.</p>\n\n<p>This episode features a listener question from Montana women-owned business Firearms Handling\, founded by Annah Pharr\, asking about proper organization and storage of emergency kits for real-life accessibility. Dr. Jeff discusses why how you store your kit is just as important as what&rsquo\;s inside it.</p>\n\n<p>Listeners will gain insight into:</p>\n\n<p>&bull\; The most common emergency kit mistakes Montanans make<br />\n&bull\; How to properly organize kits for high-stress scenarios<br />\n&bull\; Real stories of unprepared situations in Montana<br />\n&bull\; Why emergency education matters just as much as equipment<br />\n&bull\; Practical recommendations for families\, businesses\, and outdoor adventurers</p>\n\n<p>PrepEM Wild Inc. was founded to bridge the gap between emergency medicine and everyday preparedness. Their mission is to equip individuals and communities with high-quality emergency kits and education designed specifically for real-world outdoor and rural environments.</p>\n\n<p>This episode is a must-listen for anyone living\, working\, or adventuring in Montana.</p>\n\n<p>Listen to the full episode at <a class="decorated-link" href="http://www.iwd406.com/podcast" rel="noopener" target="_new">www.iwd406.com/podcast</a><br />\nWatch on YouTube: @IWD406MontanaWomen<br />\nFollow: @theiwd406podcast</p>\n\n<h2>Thank You to Our Podcast Sponsor</h2>\n\n<p>This episode is proudly sponsored by Outside Metro &mdash\; the premier lodging experience in the Whitefish area. With over 500 five-star reviews\, they offer exceptional stays that blend comfort\, style\, and true Montana hospitality. Whether you&#39\;re here to ski\, hike\, or simply unwind\, come stay where the locals play and experience Whitefish the way it was meant to be enjoyed.&nbsp\; Bonus:&nbsp\; ****&nbsp\; No booking fees.</p>\n\n<hr />\n<h2>Curious About Sponsorship?</h2>\n\n<p>Partner with IWD406 to have your business featured across our growing podcast\, social media\, and video platforms. We offer 12-episode advertising packages designed to elevate your brand while supporting stories that inspire\, educate\, and strengthen communities across Montana.</p>\n\n<p>Now booking Pass the Mic Sponsors for the IWD406 Podcast<br />\nContact us at iwd406@gmail.com<br />\nVisit <a class="decorated-link" href="http://www.iwd406.com">www.iwd406.com</a> to learn more</p>\n\n<hr />\n<h3>About IWD406:</h3>\n\n<p>IWD406 is a Montana-based storytelling and media platform dedicated to amplifying the voices of women shaping business\, culture\, community\, and leadership across the state through podcasts\, editorial features\, and digital publication.</p>\n
LOCATION:https://iwd406.com/podcast/
UID:e.148.83063
SEQUENCE:3
DTSTAMP:20260422T222341Z
URL:https://business.whitefishchamber.org/events/details/episode-57-emergency-preparedness-in-montana-dr-jeff-muenzer-of-prepem-wild-montanan-questions-on-the-iwd406-podcast-02-13-2026-83063
END:VEVENT

END:VCALENDAR
