BEGIN:VCALENDAR
VERSION:2.0
PRODID:-//ChamberMaster//Event Calendar 2.0//EN
METHOD:PUBLISH
X-PUBLISHED-TTL:P3D
REFRESH-INTERVAL:P3D
CALSCALE:GREGORIAN
BEGIN:VEVENT
DTSTART;VALUE=DATE:20260306
DTEND;VALUE=DATE:20260307
TRANSP:TRANSPARENT
X-MICROSOFT-CDO-ALLDAYEVENT:TRUE
SUMMARY:Episode #58 | Bringing Songwriters to Montana: Ron Snow of Mountain Bluebird Presents | The Stories Behind the Songs
DESCRIPTION:Episode #58 | Bringing Songwriters to Montana: Ron Snow of Mountain Bluebird Presents | The Stories Behind the Songs\n\nThe IWD406 Podcast\, Montana's trusted platform amplifying leadership\, creativity\, and community impact\, proudly presents Episode 58 featuring Ron Snow\, founder of Mountain Bluebird Presents.\n\nIn this inspiring episode\, Ron shares how he is helping shape Montana's growing music culture by creating intimate songwriter events that bring audiences closer to the stories behind the songs.\n\nThrough Mountain Bluebird Presents\, Ron is building something special across Montana   curated musical gatherings where talented songwriters share not only their music\, but also the personal journeys\, creative process\, and lived experiences that shape the songs we love.\n\nThese events create meaningful connections between artists and audiences while giving space for musicians to share their craft in an authentic and powerful way.\n\nAt IWD406\, we also believe in creating space to celebrate the people working behind the scenes who help elevate artists and creative voices across our communities.\n\nRon is doing exactly that.\n\nIn this episode\, Ron shares his passion for supporting songwriters and building memorable musical experiences throughout Montana   including introducing remarkable talent to audiences who appreciate the art of songwriting.\n\nOne of those incredible artists is legendary songwriter and singer Jo Smith\, whose story and musical journey will be featured in an upcoming episode of the IWD406 Podcast.\n\nWe are grateful to Ron for passing the mic to Jo Smith and giving us the opportunity to help amplify her voice and story through our platform.\n\nMontana thrives when people create space for music\, storytelling\, and shared experiences   and Mountain Bluebird Presents is helping make that happen.\n\nIn this episode\, Ron discusses:\n\n  The vision behind Mountain Bluebird Presents\n\n  Why songwriter events create powerful audience experiences\n\n  The importance of storytelling in music\n\n  How Montana audiences are embracing intimate musical gatherings\n\n  Supporting artists who want to share their creative journeys\n\n  Bringing remarkable talent   including Jo Smith   to Montana audiences\n\nMountain Bluebird Presents continues to cultivate unique musical experiences throughout the state while celebrating the craft of songwriting and the stories that connect us all.\n\nTo learn more about upcoming songwriter events and the work Ron is doing through Mountain Bluebird Presents\, follow along and discover upcoming performances across Montana.\n\nMontana's creative community continues to grow through people who believe in the power of music\, storytelling\, and shared experiences.\n\n?? Listen to the full episode:\n\n?? www.iwd406.com/podcast\n\n?? Watch on YouTube:\n\n@IWD406MontanaWomen\n\n?? Follow the Podcast:\n\n@theiwd406podcast\n\n\nThank You to Our Podcast Sponsor\n\nThis episode is proudly sponsored by Outside Metro   the premier lodging experience in the Whitefish area. With over 500 five-star reviews\, they offer exceptional stays that blend comfort\, style\, and true Montana hospitality.\n\nWhether you're here to ski\, hike\, or simply unwind\, come stay where the locals play and experience Whitefish the way it was meant to be enjoyed.\n\n? Bonus: No booking fees\n\n\nCurious About Sponsorship?\n\nPartner with IWD406 to have your business featured across our growing podcast\, social media\, and video platforms.\n\nWe offer 12-episode advertising packages designed to elevate your brand while supporting stories that inspire\, educate\, and strengthen communities across Montana.\n\n??? Now booking Pass the Mic Sponsors for the IWD406 Podcast\n\n?? Contact us at iwd406@gmail.com\n\n?? Visit www.iwd406.com to learn more\n\n\nAbout IWD406\n\nIWD406 is a Montana-based storytelling and media platform dedicated to amplifying the voices of women shaping business\, culture\, community\, and leadership across the state through podcasts\, editorial features\, and digital publication.
X-ALT-DESC;FMTTYPE=text/html:<p><strong>Episode #58 | Bringing Songwriters to Montana: Ron Snow of Mountain Bluebird Presents | The Stories Behind the Songs</strong></p>\n\n<p>The <strong>IWD406 Podcast</strong>\, Montana&rsquo\;s trusted platform amplifying leadership\, creativity\, and community impact\, proudly presents <strong>Episode 58 featuring Ron Snow\, founder of Mountain Bluebird Presents.</strong></p>\n\n<p>In this inspiring episode\, Ron shares how he is helping shape Montana&rsquo\;s growing music culture by creating intimate songwriter events that bring audiences closer to the stories behind the songs.</p>\n\n<p>Through <strong>Mountain Bluebird Presents</strong>\, Ron is building something special across Montana &mdash\; curated musical gatherings where talented songwriters share not only their music\, but also the personal journeys\, creative process\, and lived experiences that shape the songs we love.</p>\n\n<p>These events create meaningful connections between artists and audiences while giving space for musicians to share their craft in an authentic and powerful way.</p>\n\n<p>At IWD406\, we also believe in creating space to celebrate the people working behind the scenes who help elevate artists and creative voices across our communities.</p>\n\n<p>Ron is doing exactly that.</p>\n\n<p>In this episode\, Ron shares his passion for supporting songwriters and building memorable musical experiences throughout Montana &mdash\; including introducing remarkable talent to audiences who appreciate the art of songwriting.</p>\n\n<p>One of those incredible artists is <strong>legendary songwriter and singer Jo Smith</strong>\, whose story and musical journey will be featured in an upcoming episode of the IWD406 Podcast.</p>\n\n<p>We are grateful to Ron for <strong>passing the mic to Jo Smith</strong> and giving us the opportunity to help amplify her voice and story through our platform.</p>\n\n<p>Montana thrives when people create space for music\, storytelling\, and shared experiences &mdash\; and Mountain Bluebird Presents is helping make that happen.</p>\n\n<p>In this episode\, Ron discusses:</p>\n\n<p>&bull\; The vision behind Mountain Bluebird Presents<br />\n&bull\; Why songwriter events create powerful audience experiences<br />\n&bull\; The importance of storytelling in music<br />\n&bull\; How Montana audiences are embracing intimate musical gatherings<br />\n&bull\; Supporting artists who want to share their creative journeys<br />\n&bull\; Bringing remarkable talent &mdash\; including Jo Smith &mdash\; to Montana audiences</p>\n\n<p>Mountain Bluebird Presents continues to cultivate unique musical experiences throughout the state while celebrating the craft of songwriting and the stories that connect us all.</p>\n\n<p>To learn more about upcoming songwriter events and the work Ron is doing through Mountain Bluebird Presents\, follow along and discover upcoming performances across Montana.</p>\n\n<p>Montana&rsquo\;s creative community continues to grow through people who believe in the power of music\, storytelling\, and shared experiences.</p>\n\n<p>?? <strong>Listen to the full episode:</strong><br />\n?? <a class="decorated-link" href="http://www.iwd406.com/podcast" rel="noopener" target="_new">www.iwd406.com/podcast</a></p>\n\n<p>?? <strong>Watch on YouTube:</strong><br />\n@IWD406MontanaWomen</p>\n\n<p>?? <strong>Follow the Podcast:</strong><br />\n@theiwd406podcast</p>\n\n<hr />\n<h3>Thank You to Our Podcast Sponsor</h3>\n\n<p>This episode is proudly sponsored by <strong>Outside Metro</strong> &mdash\; the premier lodging experience in the Whitefish area. With over <strong>500 five-star reviews</strong>\, they offer exceptional stays that blend comfort\, style\, and true Montana hospitality.</p>\n\n<p>Whether you&#39\;re here to ski\, hike\, or simply unwind\, come stay where the locals play and experience Whitefish the way it was meant to be enjoyed.</p>\n\n<p>? <strong>Bonus: No booking fees</strong></p>\n\n<hr />\n<h3>Curious About Sponsorship?</h3>\n\n<p>Partner with <strong>IWD406</strong> to have your business featured across our growing podcast\, social media\, and video platforms.</p>\n\n<p>We offer <strong>12-episode advertising packages</strong> designed to elevate your brand while supporting stories that inspire\, educate\, and strengthen communities across Montana.</p>\n\n<p>??? <strong>Now booking Pass the Mic Sponsors for the IWD406 Podcast</strong></p>\n\n<p>?? Contact us at <strong>iwd406@gmail.com</strong><br />\n?? Visit <strong><a class="decorated-link" href="http://www.iwd406.com" rel="noopener" target="_new">www.iwd406.com</a></strong> to learn more</p>\n\n<hr />\n<h3>About IWD406</h3>\n\n<p><strong>IWD406</strong> is a Montana-based storytelling and media platform dedicated to amplifying the voices of women shaping business\, culture\, community\, and leadership across the state through podcasts\, editorial features\, and digital publication.</p>\n
LOCATION:https://iwd406.com/podcast/
UID:e.148.83349
SEQUENCE:3
DTSTAMP:20260422T232057Z
URL:https://business.whitefishchamber.org/events/details/episode-58-bringing-songwriters-to-montana-ron-snow-of-mountain-bluebird-presents-the-stories-behind-the-songs-03-06-2026-83349
END:VEVENT

END:VCALENDAR
