BEGIN:VCALENDAR
VERSION:2.0
PRODID:-//ChamberMaster//Event Calendar 2.0//EN
METHOD:PUBLISH
X-PUBLISHED-TTL:P3D
REFRESH-INTERVAL:P3D
CALSCALE:GREGORIAN
BEGIN:VEVENT
DTSTART:20251107T230000Z
DTEND:20251108T013000Z
X-MICROSOFT-CDO-ALLDAYEVENT:FALSE
SUMMARY:Faux Real Self Care & Marketing Bar Event IWD406 partnering with Savvi Salon
DESCRIPTION:Faux Real Self Care + Marketing Bar Experience\n\nPresented by: Savvi Salon x IWD406\n\nDates: November 7\n\nTime: 4:00 PM   6:30 PM\n\nLocation: Savvi Salon\, 135 W Idaho Street\, Kalispell Montana 59901\n\nPhone: 406-755-3013\n\n\nEvent Overview\n\nJoin us for an exclusive evening celebrating women\, wellness\, and marketing empowerment in the heart of the Flathead Valley. The Faux Real Self Care + Marketing Bar Experience is where luxury meets connection brought to you by Savvi Salon and IWD406.\n\nCome unwind with a mani/pedi service or shop the Luxury Inspired Designer Savvi Bag collection while networking with inspiring women in business. This event combines beauty and brand building in a relaxed\, elegant environment designed to spark conversation and collaboration.\n\n\nGiveaway Opportunities\n\nAttendees will have the chance to win one of three luxury prizes:\n\n\n	\n	$100 Mani/Pedi Gift Card from Savvi Salon\n	\n	\n	$400 Luxury Inspired Designer Savvi Bag\n	\n	\n	$500 Marketing Strategy Session with IWD406\n	\n\n\nWinners will be announced on November 8 on the Savvi Salon and IWD406 social media pages.\n\n\nThe IWD406 Marketing Bar\n\nDisplay your business cards\, promotional materials\, or small branded items at the IWD406 Marketing Bar inside Savvi Salon. This opportunity allows women-owned businesses and professionals to showcase their work in a highly visible space while connecting with others in the community.\n\n\nHow to Participate\n\nSchedule your mani/pedi under "IWD406" or shop during event hours to be entered to win. All marketing materials will remain displayed in the salon for continued exposure throughout the campaign.\n\nFor reservations or questions\, please call 406-755-3013.\n\n\nWomen Supporting Women in the Valley\n\nThis exclusive partnership event highlights collaboration\, community\, and connection. Enjoy an evening of self-care\, networking\, and marketing visibility among women supporting women in the Valley.
X-ALT-DESC;FMTTYPE=text/html:<h2>Faux Real Self Care + Marketing Bar Experience</h2>\n\n<p><strong>Presented by:</strong> Savvi Salon x IWD406<br />\n<strong>Dates:</strong>&nbsp\;November 7<br />\n<strong>Time:</strong> 4:00 PM &ndash\; 6:30 PM<br />\n<strong>Location:</strong> Savvi Salon\, 135 W Idaho Street\, Kalispell Montana 59901<br />\n<strong>Phone:</strong> 406-755-3013</p>\n\n<hr />\n<h3>Event Overview</h3>\n\n<p>Join us for an exclusive evening celebrating women\, wellness\, and marketing empowerment in the heart of the Flathead Valley. The Faux Real Self Care + Marketing Bar Experience is where luxury meets connection&mdash\;brought to you by Savvi Salon and IWD406.</p>\n\n<p>Come unwind with a mani/pedi service or shop the Luxury Inspired Designer Savvi Bag collection while networking with inspiring women in business. This event combines beauty and brand building in a relaxed\, elegant environment designed to spark conversation and collaboration.</p>\n\n<hr />\n<h3>Giveaway Opportunities</h3>\n\n<p>Attendees will have the chance to win one of three luxury prizes:</p>\n\n<ul>\n	<li>\n	<p>$100 Mani/Pedi Gift Card from Savvi Salon</p>\n	</li>\n	<li>\n	<p>$400 Luxury Inspired Designer Savvi Bag</p>\n	</li>\n	<li>\n	<p>$500 Marketing Strategy Session with IWD406</p>\n	</li>\n</ul>\n\n<p>Winners will be announced on November 8 on the Savvi Salon and IWD406 social media pages.</p>\n\n<hr />\n<h3>The IWD406 Marketing Bar</h3>\n\n<p>Display your business cards\, promotional materials\, or small branded items at the IWD406 Marketing Bar inside Savvi Salon. This opportunity allows women-owned businesses and professionals to showcase their work in a highly visible space while connecting with others in the community.</p>\n\n<hr />\n<h3>How to Participate</h3>\n\n<p>Schedule your mani/pedi under &ldquo\;IWD406&rdquo\; or shop during event hours to be entered to win. All marketing materials will remain displayed in the salon for continued exposure throughout the campaign.</p>\n\n<p>For reservations or questions\, please call <strong>406-755-3013</strong>.</p>\n\n<hr />\n<h3>Women Supporting Women in the Valley</h3>\n\n<p>This exclusive partnership event highlights collaboration\, community\, and connection. Enjoy an evening of self-care\, networking\, and marketing visibility among women supporting women in the Valley.</p>\n
LOCATION:Savvi Salon 135 W Idaho Street Kalispell\, Montana 59901
UID:e.148.76607
SEQUENCE:3
DTSTAMP:20260422T182452Z
URL:https://business.whitefishchamber.org/events/details/faux-real-self-care-marketing-bar-event-iwd406-partnering-with-savvi-salon-11-07-2025-76607
END:VEVENT

END:VCALENDAR
