BEGIN:VCALENDAR
VERSION:2.0
PRODID:-//ChamberMaster//Event Calendar 2.0//EN
METHOD:PUBLISH
X-PUBLISHED-TTL:P3D
REFRESH-INTERVAL:P3D
CALSCALE:GREGORIAN
BEGIN:VEVENT
DTSTART:20250426T170000Z
DTEND:20250426T220000Z
X-MICROSOFT-CDO-ALLDAYEVENT:FALSE
SUMMARY:Second Annual Dodgeball Tournament at The Lodge at Whitefish Lake
DESCRIPTION:SECOND ANNUAL DODGEBALL TOURNAMENT | Saturday\, April 26 at 11a\n\n\n\nDodge\, dip\, duck\, dive\, & dodge at the Lodge's Second Annual Dodgeball Tournament. Rain or shine\, we're inviting 16 teams to join us. DJ Halladay will be spinning tunes & food & drinks will be available for purchase. Entry fee is $60 per team   winner takes all. Prizes will also be awarded for MVP & best dressed   get creative!\n\n\n\nRegistration is available online at qrco.de/lodgedodge
X-ALT-DESC;FMTTYPE=text/html:<div>\n<p>SECOND ANNUAL DODGEBALL TOURNAMENT | Saturday\, April 26 at 11a<br />\n<br />\nDodge\, dip\, duck\, dive\, &amp\; dodge at the Lodge&rsquo\;s Second Annual Dodgeball Tournament. Rain or shine\, we&rsquo\;re inviting 16 teams to join us. DJ Halladay will be spinning tunes &amp\; food &amp\; drinks will be available for purchase. Entry fee is $60 per team &ndash\; winner takes all. Prizes will also be awarded for MVP &amp\; best dressed &ndash\; get creative!<br />\n<br />\n<span style="background-color:aqua !important\; color:inherit\; font-family:calibri\,calibri_embeddedfont\,calibri_msfontservice\,sans-serif\; font-size:9.5pt"><span style="color:inherit">Registration is available online at</span><span style="color:inherit"> </span></span><strong><span style="color:inherit">qrco.de/</span><span style="color:inherit">lodgedodge</span></strong><span style="color:inherit\; font-family:calibri\,calibri_embeddedfont\,calibri_msfontservice\,sans-serif\; font-size:9.5pt">&nbsp\;</span></p>\n</div>\n
LOCATION:The Lodge at Whitefish Lake 1380 Wisconsin Ave Whitefish\, MT
UID:e.148.68910
SEQUENCE:3
DTSTAMP:20260422T164928Z
URL:https://business.whitefishchamber.org/events/details/first-annual-dodgeball-tournament-at-the-lodge-at-whitefish-lake-04-20-2024-68910
END:VEVENT

END:VCALENDAR
