BEGIN:VCALENDAR
VERSION:2.0
PRODID:-//ChamberMaster//Event Calendar 2.0//EN
METHOD:PUBLISH
X-PUBLISHED-TTL:P3D
REFRESH-INTERVAL:P3D
CALSCALE:GREGORIAN
BEGIN:VEVENT
DTSTART:20260425T160000Z
DTEND:20260425T210000Z
X-MICROSOFT-CDO-ALLDAYEVENT:FALSE
SUMMARY:Flathead River Earth Day Cleanup
DESCRIPTION:Looking for an opportunity to give back this Earth Day? Join Wild Montana's Flathead-Kootenai Chapter and the Flathead Rivers Alliance for a cleanup of fishing access sites along the North Fork and Middle Fork of the Flathead River. We'll stick to the shore and pick up all the pesky trash\, cans\, and plastic that would otherwise end up in the river.\n\nFlathead River Earth Day Cleanup\n\nSaturday April 25\, 10 a.m.\n\nMeeting at Marantette Park\, Columbia Falls\n\n\n\nRegistration is required: https://wildmontana.org/event/earth-day-flathead-river-cleanup-5/
X-ALT-DESC;FMTTYPE=text/html:<p>Looking for an opportunity to give back this Earth Day? Join&nbsp\;<a href="https://wildmontana.org/fkc" rel="noopener" style="box-sizing: inherit\; color: rgb(158\, 71\, 73)\; background-color: transparent\; text-underline-position: under\; transition: color 0.2s\; border-bottom: none\;" target="_blank">Wild Montana&rsquo\;s Flathead-Kootenai Chapter</a>&nbsp\;and the&nbsp\;<a href="https://www.flatheadrivers.org/" rel="noopener" style="box-sizing: inherit\; color: rgb(158\, 71\, 73)\; background-color: transparent\; text-underline-position: under\; transition: color 0.2s\; border-bottom: none\;" target="_blank">Flathead Rivers Alliance</a>&nbsp\;for a cleanup of fishing access sites along the North Fork and Middle Fork of the Flathead River. We&rsquo\;ll stick to the shore and pick up all the pesky trash\, cans\, and plastic that would otherwise end up in the river.</p>\n\n<p style="text-align:center">Flathead River Earth Day Cleanup<br />\nSaturday April 25\, 10 a.m.<br />\nMeeting at Marantette Park\, Columbia Falls<br />\n<br />\nRegistration is required:&nbsp\;https://wildmontana.org/event/earth-day-flathead-river-cleanup-5/</p>\n
LOCATION:Marantette Park\, Columbia Falls\, MT
UID:e.148.83585
SEQUENCE:3
DTSTAMP:20260421T223717Z
URL:https://business.whitefishchamber.org/events/details/flathead-river-earth-day-cleanup-83585
END:VEVENT

END:VCALENDAR
