BEGIN:VCALENDAR
VERSION:2.0
PRODID:-//ChamberMaster//Event Calendar 2.0//EN
METHOD:PUBLISH
X-PUBLISHED-TTL:P3D
REFRESH-INTERVAL:P3D
CALSCALE:GREGORIAN
BEGIN:VEVENT
DTSTART:20250719T170000Z
DTEND:20250719T210000Z
X-MICROSOFT-CDO-ALLDAYEVENT:FALSE
SUMMARY:Flock and Talk: a crochet and knit circle
DESCRIPTION:PDS Flock and Talk is a great place to relax and work on your current project or get inspiration to start a new.  Step out your door and walk to Flock and Talk.\n\nWhere: Polka Dot Sheep Fine Yarns 14 Lupfer Ave Whitefish\, MT 59937\n\nWhen: Mondays\, Wednesdays\, and Saturdays 11:00-3:00\n\nWhat: A time and place to work on your project in good company.  Bring a friend!
X-ALT-DESC;FMTTYPE=text/html:<p><span style="font-family:verdana\,geneva\; font-size:small"><strong>PDS Flock and Talk</strong>&nbsp\;is a great place to relax and work on your current project or get inspiration to start a new.&nbsp\; Step out your door and walk to Flock and Talk.</span></p>\n\n<p><span style="font-family:verdana\,geneva\; font-size:small"><strong>Where:&nbsp\;</strong>Polka Dot Sheep Fine Yarns 14 Lupfer Ave Whitefish\, MT 59937</span></p>\n\n<p><span style="font-family:verdana\,geneva\; font-size:small"><strong>When:&nbsp\;</strong>Mondays\, Wednesdays\, and Saturdays 11:00-3:00</span></p>\n\n<p><span style="font-family:verdana\,geneva\; font-size:small"><strong>What:</strong>&nbsp\;A time and place to work on your project in good company.&nbsp\; Bring a friend!</span></p>\n
LOCATION:Polka Dot Sheep Fine Yarns 14 Lupfer Ave Whitefish\, MT 59937
UID:e.148.75459
SEQUENCE:3
DTSTAMP:20260422T120134Z
URL:https://business.whitefishchamber.org/events/details/flock-and-talk-a-crochet-and-knit-circle-07-19-2025-75459
END:VEVENT

END:VCALENDAR
