BEGIN:VCALENDAR
VERSION:2.0
PRODID:-//ChamberMaster//Event Calendar 2.0//EN
METHOD:PUBLISH
X-PUBLISHED-TTL:P3D
REFRESH-INTERVAL:P3D
CALSCALE:GREGORIAN
BEGIN:VEVENT
DTSTART:20251213T010000Z
DTEND:20251213T040000Z
X-MICROSOFT-CDO-ALLDAYEVENT:FALSE
SUMMARY:FOURTH ANNUAL FIREBRAND SNOW DANCE PARTY
DESCRIPTION:Enjoy Happy Hour specials from 4-6p\, then stay for DJ Sidecar Audio\, a photo booth\, and the unveiling of our new\, featured Holiday Cocktail! Friday\, December 12th from 6-9p.
X-ALT-DESC;FMTTYPE=text/html:<span style="background-color:rgba(255\, 255\, 255\, 0.4)\; color:rgb(88\, 89\, 91)\; font-family:proxima-nova\,helvetica\,arial\,sans-serif\; font-size:17.6px">Enjoy Happy Hour specials from 4-6p\, then stay for DJ Sidecar Audio\, a photo booth\, and the unveiling of our new\, featured Holiday Cocktail! Friday\, December 12th from 6-9p.</span>
LOCATION:The Firebrand Hotel & Restaurant 650 East Third Street Whitefish\, MT 59937
UID:e.148.76721
SEQUENCE:3
DTSTAMP:20260422T193604Z
URL:https://business.whitefishchamber.org/events/details/fourth-annual-firebrand-snow-dance-party-76721
END:VEVENT

END:VCALENDAR
