BEGIN:VCALENDAR
VERSION:2.0
PRODID:-//ChamberMaster//Event Calendar 2.0//EN
METHOD:PUBLISH
X-PUBLISHED-TTL:P3D
REFRESH-INTERVAL:P3D
CALSCALE:GREGORIAN
BEGIN:VEVENT
DTSTART:20260502T170000Z
DTEND:20260502T200000Z
X-MICROSOFT-CDO-ALLDAYEVENT:FALSE
SUMMARY:FREE LUNCH Honoring Our Heroes
DESCRIPTION:FREE LUNCH: Join us on May 2\, 2026\, from 11:00 AM to 2:00 PM at The Great Bear Inn for Honoring Our Heroes\, a free\, family-friendly community event celebrating our local first responders. Enjoy great food\, games\, and giveaways while we come together to recognize the firefighters\, police officers\, EMTs\, and everyday heroes who serve our community. All are welcome bring your family\, invite your friends\, and help us show our appreciation. Please RSVP by April 17th to ensure we have enough for everyone: https://forms.gle/AbcVnhUYt8ucL4DE8
X-ALT-DESC;FMTTYPE=text/html:FREE LUNCH:&nbsp\;<span style="color:rgb(0\, 0\, 0)\; font-family:-webkit-standard\; font-size:medium">Join us on May 2\, 2026\, from 11:00 AM to 2:00 PM at The Great Bear Inn for&nbsp\;</span><em>Honoring Our Heroes</em><span style="color:rgb(0\, 0\, 0)\; font-family:-webkit-standard\; font-size:medium">\, a free\, family-friendly community event celebrating our local first responders. Enjoy great food\, games\, and giveaways while we come together to recognize the firefighters\, police officers\, EMTs\, and everyday heroes who serve our community. All are welcome&mdash\;bring your family\, invite your friends\, and help us show our appreciation. Please RSVP by April 17th to ensure we have enough for everyone:&nbsp\;</span><a class="decorated-link" href="https://forms.gle/AbcVnhUYt8ucL4DE8" rel="noopener" target="_new">https://forms.gle/AbcVnhUYt8ucL4DE8</a>
LOCATION:The Great Bear Inn\, 5672 Blankenship Rd\, West Glacier\, MT 59936
UID:e.148.83537
SEQUENCE:3
DTSTAMP:20260422T080552Z
URL:https://business.whitefishchamber.org/events/details/free-lunch-honoring-our-heroes-83537
END:VEVENT

END:VCALENDAR
