BEGIN:VCALENDAR
VERSION:2.0
PRODID:-//ChamberMaster//Event Calendar 2.0//EN
METHOD:PUBLISH
X-PUBLISHED-TTL:P3D
REFRESH-INTERVAL:P3D
CALSCALE:GREGORIAN
BEGIN:VEVENT
DTSTART:20260224T010000Z
DTEND:20260224T030000Z
X-MICROSOFT-CDO-ALLDAYEVENT:FALSE
SUMMARY:French Fireside Feast - DAY 2
DESCRIPTION:Cassoulet\, French onion soup & baguettes cozy French dining at The Patio. Intimate\, warm\, and made to gather.\n\n\n\n\nFrench Fireside Feast - DAY 2\n\nBrought to you by Ellie & Orion Cook.\n\nGet ready for an awesome evening at this in-person dining experience.\n\nDates: Sunday & Monday\, February 22 23\n\nTime: 6:00 8:00 PM\n\nLocation: The Patio\, Whitefish\, MT\n\nStep into a warm\, homey evening inspired by the French countryside. French Fireside Feast is an intimate private dinner experience designed to slow things down... think rich cassoulet\, bubbling French onion soup\, fresh baguettes\, and the kind of comforting flavors that feel like winter by the fire.\n\nThis cozy French-themed gathering transforms The Patio into a welcoming hearth- where good food\, good company\, and unhurried conversation take center stage.\n\nWhat to Expect\n\n+ Hearty cassoulet\n\n+ Classic French onion soup\n\n+ Fresh baguettes & rustic accompaniments\n\n+ Optional drink pairings & bar available\n\n+ Warm\, intimate fireside atmosphere\n\nEvent Details\n\n+The Patio   Whitefish\, MT\n\n+ Private Dinner Experience\n\n+ Advance ticket required\n\n+ Limited seating for an intimate gathering\n\n\n	Price: $45 per person\n	Capacity: 40 guests per night\n	Dietary Needs: Please include any dietary restrictions at checkout\n\n\nWhy You'll Love It\n\nThis is comfort food at its finest... slow-cooked\, deeply flavorful\, and meant to be shared. Whether you're gathering with friends or planning a cozy date night\, French Fireside Feast offers a relaxed\, elevated evening rooted in warmth and connection.\n\nReserve your seat and join us for a fireside night the French way.
X-ALT-DESC;FMTTYPE=text/html:<div>\n<div>\n<p>Cassoulet\, French onion soup &amp\; baguettes&mdash\;cozy French dining at The Patio. Intimate\, warm\, and made to gather.</p>\n</div>\n</div>\n\n<div>\n<h2>French Fireside Feast - DAY 2</h2>\n\n<p><em>Brought to you by Ellie &amp\; Orion Cook.</em></p>\n\n<p>Get ready for an awesome evening at this in-person dining experience.</p>\n\n<p>Dates:&nbsp\;Sunday &amp\; Monday\,&nbsp\;February 22&ndash\;23<br />\nTime:&nbsp\;6:00&ndash\;8:00 PM<br />\nLocation:&nbsp\;The Patio\, Whitefish\, MT</p>\n\n<p>Step into a warm\, homey evening inspired by the French countryside.&nbsp\;French Fireside Feast&nbsp\;is an intimate private dinner experience designed to slow things down... think rich cassoulet\, bubbling French onion soup\, fresh baguettes\, and the kind of comforting flavors that feel like winter by the fire.</p>\n\n<p>This cozy French-themed gathering transforms The Patio into a welcoming hearth- where good food\, good company\, and unhurried conversation take center stage.</p>\n\n<h3>What to Expect</h3>\n\n<p>+ Hearty&nbsp\;cassoulet<br />\n+ Classic&nbsp\;French onion soup<br />\n+ Fresh&nbsp\;baguettes&nbsp\;&amp\; rustic accompaniments<br />\n+ Optional drink pairings &amp\; bar available<br />\n+ Warm\, intimate fireside atmosphere</p>\n\n<h3>Event Details</h3>\n\n<p>+The Patio &ndash\; Whitefish\, MT<br />\n+ Private Dinner Experience<br />\n+ Advance ticket required<br />\n+ Limited seating for an intimate gathering</p>\n\n<ul>\n	<li>Price:&nbsp\;$45 per person</li>\n	<li>Capacity:&nbsp\;40 guests per night</li>\n	<li>Dietary Needs:&nbsp\;Please include any dietary restrictions at checkout</li>\n</ul>\n\n<h3>Why You&rsquo\;ll Love It</h3>\n\n<p>This is comfort food at its finest... slow-cooked\, deeply flavorful\, and meant to be shared. Whether you&rsquo\;re gathering with friends or planning a cozy date night\, French Fireside Feast offers a relaxed\, elevated evening rooted in warmth and connection.</p>\n\n<p>Reserve your seat and join us for a fireside night the French way.</p>\n</div>\n
LOCATION:The Patio 204 Wisconsin Avenue Whitefish\, MT 59937
UID:e.148.83066
SEQUENCE:3
DTSTAMP:20260422T215603Z
URL:https://business.whitefishchamber.org/events/details/french-fireside-feast-day-2-83066
END:VEVENT

END:VCALENDAR
