BEGIN:VCALENDAR
VERSION:2.0
PRODID:-//ChamberMaster//Event Calendar 2.0//EN
METHOD:PUBLISH
X-PUBLISHED-TTL:P3D
REFRESH-INTERVAL:P3D
CALSCALE:GREGORIAN
BEGIN:VEVENT
DTSTART:20260223T153000Z
DTEND:20260223T170000Z
X-MICROSOFT-CDO-ALLDAYEVENT:FALSE
SUMMARY:Funding Foundations: Funding Strategy and Capital Access
DESCRIPTION:Course Overview:\n\nThe right funding strategy determines how fast and how well a startup can grow. This session equips entrepreneurs to evaluate funding options\, avoid common pitfalls\, and build credibility with financial partners.\n\n\n\nKey Learning Objectives:\n\n1. Compare different funding sources (bootstrapping\, loans\, equity\, grants).\n\n2. Understand the tradeoffs between control\, cost of capital\, and growth speed.\n\n3. Build a capital access plan aligned with your long-term strategy.\n\n\n\nWho Should Attend:\n\nEntrepreneurs preparing to raise funds\, startup founders navigating capital decisions\, and business owners seeking clarity on sustainable financing.\n\n\n\nPractical Takeaways:\n\n1. Funding strategy worksheet.\n\n2.Example investor pitch framework.\n\n3.Capital access opportunities (banks\, angels\, VCs\, grants).\n\n\n\nThis session is part of the Business Lifecycle Masterclass Series\, designed and led by Rich in Thought Consulting.
X-ALT-DESC;FMTTYPE=text/html:<div style="background:50% center / cover no-repeat rgb(255\, 255\, 255)\; border:0px\; padding:0px">\n<div style="background:transparent\; border:0px\; padding:0px">\n<div style="background:50% center / cover no-repeat rgb(255\, 255\, 255)\; border:0px\; padding:0px">\n<div style="background:transparent\; border:0px\; padding:0px">\n<div style="background:50% center / cover no-repeat rgb(255\, 255\, 255)\; border:0px\; padding:0px">\n<div style="background:transparent\; border:0px\; padding:0px">\n<div style="background:50% center / cover no-repeat rgb(255\, 255\, 255)\; border:0px\; padding:0px">\n<div style="background:transparent\; border:0px\; padding:0px">\n<p>Course Overview:<br />\nThe right funding strategy determines how fast and how well a startup can grow. This session equips entrepreneurs to evaluate funding options\, avoid common pitfalls\, and build credibility with financial partners.<br />\n<br />\nKey Learning Objectives:<br />\n1. Compare different funding sources (bootstrapping\, loans\, equity\, grants).<br />\n2. Understand the tradeoffs between control\, cost of capital\, and growth speed.<br />\n3. Build a capital access plan aligned with your long-term strategy.<br />\n<br />\nWho Should Attend:<br />\nEntrepreneurs preparing to raise funds\, startup founders navigating capital decisions\, and business owners seeking clarity on sustainable financing.<br />\n<br />\nPractical Takeaways:<br />\n1. Funding strategy worksheet.<br />\n2.Example investor pitch framework.<br />\n3.Capital access opportunities (banks\, angels\, VCs\, grants).<br />\n<br />\nThis session is part of the Business Lifecycle Masterclass Series\, designed and led by Rich in Thought Consulting.&nbsp\;</p>\n</div>\n</div>\n</div>\n</div>\n</div>\n</div>\n</div>\n</div>\n
LOCATION:MWED\, 44 2nd Ave. W in Kalispell
UID:e.148.76248
SEQUENCE:3
DTSTAMP:20260422T215829Z
URL:https://business.whitefishchamber.org/events/details/funding-foundations-funding-strategy-and-capital-access-76248
END:VEVENT

END:VCALENDAR
