BEGIN:VCALENDAR
VERSION:2.0
PRODID:-//ChamberMaster//Event Calendar 2.0//EN
METHOD:PUBLISH
X-PUBLISHED-TTL:P3D
REFRESH-INTERVAL:P3D
CALSCALE:GREGORIAN
BEGIN:VEVENT
DTSTART:20251115T153000Z
DTEND:20251115T200000Z
X-MICROSOFT-CDO-ALLDAYEVENT:FALSE
SUMMARY:Future-Ready Homes Fair
DESCRIPTION:Future-Ready Homes Fair\, happening Saturday\, November 15\, 2025\, from 8:30 AM to 1:00 PM at Whitefish City Hall\, 418 E 2nd Street.\n\nThis free\, public event will offer practical workshops and expert advice on making homes more comfortable\, efficient\, and affordable. Local professionals will share insights on weatherization\, heat pumps\, solar energy\, efficient appliances\, and more   all tailored to our Montana climate. Guests can enjoy hosted coffee and snacks\, attend short presentations\, and even take part in an Energy-Smart Home Tour to see real-world upgrades in action.
X-ALT-DESC;FMTTYPE=text/html:<p style="margin-left:0in\; margin-right:0in"><span style="color:black\; font-family:arial\,sans-serif\; font-size:11.0pt"><strong>Future-Ready Homes Fair</strong>\, happening <strong>Saturday\, November 15\, 2025\, from 8:30 AM to 1:00 PM at Whitefish City Hall\, 418 E 2nd Street</strong>.</span></p>\n\n<p style="margin-left:0in\; margin-right:0in"><span style="color:black\; font-family:arial\,sans-serif\; font-size:11.0pt">This free\, public event will offer <strong>practical workshops and expert advice</strong> on making homes more comfortable\, efficient\, and affordable. Local professionals will share insights on <strong>weatherization\, heat pumps\, solar energy\, efficient appliances\, and more</strong> &mdash\; all tailored to our Montana climate. Guests can enjoy hosted coffee and snacks\, attend short presentations\, and even take part in an <strong>Energy-Smart Home Tour</strong> to see real-world upgrades in action.</span></p>\n
LOCATION:Whitefish City Hall
UID:e.148.76569
SEQUENCE:3
DTSTAMP:20260422T170555Z
URL:https://business.whitefishchamber.org/events/details/future-ready-homes-fair-76569
END:VEVENT

END:VCALENDAR
