BEGIN:VCALENDAR
VERSION:2.0
PRODID:-//ChamberMaster//Event Calendar 2.0//EN
METHOD:PUBLISH
X-PUBLISHED-TTL:P3D
REFRESH-INTERVAL:P3D
CALSCALE:GREGORIAN
BEGIN:VEVENT
DTSTART:20251113T013000Z
DTEND:20251113T023000Z
X-MICROSOFT-CDO-ALLDAYEVENT:FALSE
SUMMARY:Glacier Book Club: Grizzly Confidential
DESCRIPTION:Join Executive Director\, Doug Mitchell\, on Zoom and have a discussion with author Kevin Grange about the book\, Grizzly Confidential. \n\n\n\nRegister online at: https://glacier.org/glacier-book-club/\n\n\n\nAbout The Book:\n\nGrizzly Confidential follows Kevin Grange\, a former paramedic and park ranger\, on his journey to understand North America's most formidable predator\, the grizzly bear. From the misty island of giant bears to cutting-edge research on hibernation\, Grange encounters scientists\, activists\, and even the darker sides of wildlife trade. His adventure leads him to a remote part of Alaska where humans peacefully coexist with the largest gathering of brown bears. Part science\, part travelogue\, Grange's story is both an exploration of grizzlies and a passionate call for their conservation.
X-ALT-DESC;FMTTYPE=text/html:Join Executive Director\, Doug Mitchell\, on Zoom and have a discussion with author Kevin Grange about the book\, <em>Grizzly Confidential</em>.&nbsp\;<br />\n<br />\n<strong>Register online at:&nbsp\;<a href="https://glacier.org/glacier-book-club/">https://glacier.org/glacier-book-club/</a></strong><br />\n<br />\n<u><em>About The Book:</em></u><br />\n<em>Grizzly Confidential </em>follows Kevin Grange\, a former paramedic and park ranger\, on his journey to understand North America&rsquo\;s most formidable predator\, the grizzly bear. From the misty island of giant bears to cutting-edge research on hibernation\, Grange encounters scientists\, activists\, and even the darker sides of wildlife trade. His adventure leads him to a remote part of Alaska where humans peacefully coexist with the largest gathering of brown bears. Part science\, part travelogue\, Grange&rsquo\;s story is both an exploration of grizzlies and a passionate call for their conservation.
LOCATION:Virtual
UID:e.148.76267
SEQUENCE:3
DTSTAMP:20260422T171823Z
URL:https://business.whitefishchamber.org/events/details/glacier-book-club-grizzly-confidential-76267
END:VEVENT

END:VCALENDAR
