BEGIN:VCALENDAR
VERSION:2.0
PRODID:-//ChamberMaster//Event Calendar 2.0//EN
METHOD:PUBLISH
X-PUBLISHED-TTL:P3D
REFRESH-INTERVAL:P3D
CALSCALE:GREGORIAN
BEGIN:VEVENT
DTSTART:20260205T013000Z
DTEND:20260205T023000Z
X-MICROSOFT-CDO-ALLDAYEVENT:FALSE
SUMMARY:Glacier Conversations: Journey to the Sun Documentary
DESCRIPTION:Join GNPC Executive Director Doug Mitchell on Zoom\, and have a discussion with Logan and Jordan Lefler about their documentary\, Journey to the Sun.\n\n\n\nRegister online here: https://glacier.org/glacier-conversations/\n\n\n\nThe Lefler brothers' passion for Glacier runs deep. Now they are embarking on an epic journey to not only document the history of Going-to-the-Sun Road but in their words\, "capture the spirit of the road and tell the stories of the people who bring it to life." Join GNPC Executive Director\, Doug Mitchell for a conversation with Logan and Jordan Lefler as they give us an insider's look at the making of their documentary\, Journey to the Sun.
X-ALT-DESC;FMTTYPE=text/html:Join GNPC Executive Director Doug Mitchell on Zoom\, and have a discussion with Logan and Jordan Lefler about their documentary\, Journey to the Sun.<br />\n<br />\nRegister online here:&nbsp\;https://glacier.org/glacier-conversations/<br />\n<br />\nThe Lefler brothers&rsquo\; passion for Glacier runs deep. Now they are embarking on an epic journey to not only document the history of Going-to-the-Sun Road but in their words\, &ldquo\;capture the spirit of the road and tell the stories of the people who bring it to life.&rdquo\; Join GNPC Executive Director\, Doug Mitchell for a conversation with Logan and Jordan Lefler as they give us an insider&rsquo\;s look at the making of their documentary\, Journey to the Sun.
LOCATION:Virtual
UID:e.148.77930
SEQUENCE:3
DTSTAMP:20260422T215733Z
URL:https://business.whitefishchamber.org/events/details/glacier-conversations-journey-to-the-sun-documentary-77930
END:VEVENT

END:VCALENDAR
