BEGIN:VCALENDAR
VERSION:2.0
PRODID:-//ChamberMaster//Event Calendar 2.0//EN
METHOD:PUBLISH
X-PUBLISHED-TTL:P3D
REFRESH-INTERVAL:P3D
CALSCALE:GREGORIAN
BEGIN:VEVENT
DTSTART;VALUE=DATE:20260215
DTEND;VALUE=DATE:20260216
TRANSP:TRANSPARENT
X-MICROSOFT-CDO-ALLDAYEVENT:TRUE
SUMMARY:Glacier Meltdown Laser Biathlon Race
DESCRIPTION:More details coming soon!
X-ALT-DESC;FMTTYPE=text/html:More details coming soon!
LOCATION:
UID:e.148.76614
SEQUENCE:3
DTSTAMP:20260422T205305Z
URL:https://business.whitefishchamber.org/events/details/glacier-meltdown-laser-biathlon-race-76614
END:VEVENT

END:VCALENDAR
