BEGIN:VCALENDAR
VERSION:2.0
PRODID:-//ChamberMaster//Event Calendar 2.0//EN
METHOD:PUBLISH
X-PUBLISHED-TTL:P3D
REFRESH-INTERVAL:P3D
CALSCALE:GREGORIAN
BEGIN:VEVENT
DTSTART:20251110T003000Z
DTEND:20251110T023000Z
X-MICROSOFT-CDO-ALLDAYEVENT:FALSE
SUMMARY:Glacier Nordic Club Community Potluck & Auction
DESCRIPTION:This wonderful community event is back by popular demand! Join us for a fun ski community reunion to kick off the joys of the upcoming ski season with a potluck dinner and auction in support of Glacier Nordic Club. Bring your ski friends and family\, and a dish to share. Please see our website for more details. This will be the LAST DAY to buy early-bird season passes!
X-ALT-DESC;FMTTYPE=text/html:<p>This wonderful community event is back by popular demand! Join us for a fun ski community reunion to kick off the joys of the upcoming ski season with a potluck dinner and auction in support of Glacier Nordic Club. Bring your ski friends and family\, and a dish to share. Please see our website for more details. This will be the LAST DAY to buy early-bird season passes!&nbsp\;<br />\n<br />\n&nbsp\;</p>\n
LOCATION:Moose Lodge\, 230 W. 10th St\, Whitefish
UID:e.148.76568
SEQUENCE:3
DTSTAMP:20260422T182344Z
URL:https://business.whitefishchamber.org/events/details/glacier-nordic-club-community-potluck-auction-76568
END:VEVENT

END:VCALENDAR
