BEGIN:VCALENDAR
VERSION:2.0
PRODID:-//ChamberMaster//Event Calendar 2.0//EN
METHOD:PUBLISH
X-PUBLISHED-TTL:P3D
REFRESH-INTERVAL:P3D
CALSCALE:GREGORIAN
BEGIN:VEVENT
DTSTART:20251113T230000Z
DTEND:20251114T020000Z
X-MICROSOFT-CDO-ALLDAYEVENT:FALSE
SUMMARY:Glow and Give Whitefish Creative Aesthetics
DESCRIPTION:Holiday Client Appreciation Event Glow and Give Whitefish Creative Aesthetics First 30 guests get a Glow Gift + 50% off treatment voucher Savings on gifts\, treatments\, and exclusive product bundles Complimentary gift-wrapping bar Personalized skin analysis & mini consultations \n\n	Holiday cocktails\, collagen shots\, mocktails & decadent bites from Erika's Bake Shop\n	Special membership offer: sign up before or during the event and receive a complimentary CoolPeel session + a 50% off treatment voucher\n	Raffle prizes: Rajani MD basket ($500)\, La Poem set ($300)\, CoolPeel treatment ($2\,400)\n	Discounted holiday bundles targeting hands\, neck\, vaginal health\, face\, acne\, and lips\n	Up to 40% off products
X-ALT-DESC;FMTTYPE=text/html:Holiday Client Appreciation Event Glow and Give Whitefish Creative Aesthetics First 30 guests get a Glow Gift + 50% off treatment voucher Savings on gifts\, treatments\, and exclusive product bundles Complimentary gift-wrapping bar Personalized skin analysis &amp\; mini consultations&nbsp\;\n<ul>\n	<li>Holiday cocktails\, collagen shots\, mocktails &amp\; decadent bites from Erika&rsquo\;s Bake Shop</li>\n	<li>Special membership offer: sign up before or during the event and receive a complimentary CoolPeel session + a 50% off treatment voucher</li>\n	<li>Raffle prizes: Rajani MD basket ($500)\, La Poem set ($300)\, CoolPeel treatment ($2\,400)</li>\n	<li>Discounted holiday bundles targeting hands\, neck\, vaginal health\, face\, acne\, and lips</li>\n	<li>Up to 40% off products</li>\n</ul>\n
LOCATION:911 Wisconsin Suite 202 Whitefish MT 59937
UID:e.148.76687
SEQUENCE:3
DTSTAMP:20260422T170646Z
URL:https://business.whitefishchamber.org/events/details/glow-and-give-whitefish-creative-aesthetics-76687
END:VEVENT

END:VCALENDAR
