BEGIN:VCALENDAR
VERSION:2.0
PRODID:-//ChamberMaster//Event Calendar 2.0//EN
METHOD:PUBLISH
X-PUBLISHED-TTL:P3D
REFRESH-INTERVAL:P3D
CALSCALE:GREGORIAN
BEGIN:VEVENT
DTSTART:20250515T230000Z
DTEND:20250516T010000Z
X-MICROSOFT-CDO-ALLDAYEVENT:FALSE
SUMMARY:Gone Fishin' at Whitefish Pilot
DESCRIPTION:Please join us for this month's Whitefish Chamber of Commerce Gone Fishin' hosted by Whitefish Pilot.\n\n\n\nThis is a networking event for our membership business representatives to interact with others\, exchange information and develop professional and social contacts over food and drinks.  This is a great way to get to know your fellow Chamber members.  We hope to see you there.
X-ALT-DESC;FMTTYPE=text/html:<span style="color:rgb(5\, 5\, 5)\; font-size:15px">Please join us for this month&#39\;s Whitefish Chamber of Commerce Gone Fishin&#39\; hosted by Whitefish Pilot.</span><br />\n<br />\n<span style="color: rgb(5\, 5\, 5)\; font-family: sans-serif\, Arial\, Verdana\, &quot\;Trebuchet MS&quot\;\; font-size: 15px\; background-color: rgb(255\, 255\, 255)\;">This is a networking event for our membership business representatives to interact with others\, exchange information and develop professional and social contacts over food and drinks.&nbsp\; This is a great way to get to know your fellow Chamber members.&nbsp\; We hope to see you there.</span>
LOCATION:312 E Second St\, Whitefish\, MT 59937
UID:e.148.71668
SEQUENCE:3
DTSTAMP:20260422T153622Z
URL:https://business.whitefishchamber.org/events/details/gone-fishin-at-whitefish-pilot-71668
END:VEVENT

END:VCALENDAR
