BEGIN:VCALENDAR
VERSION:2.0
PRODID:-//ChamberMaster//Event Calendar 2.0//EN
METHOD:PUBLISH
X-PUBLISHED-TTL:P3D
REFRESH-INTERVAL:P3D
CALSCALE:GREGORIAN
BEGIN:VEVENT
DTSTART:20251002T230000Z
DTEND:20251003T050000Z
X-MICROSOFT-CDO-ALLDAYEVENT:FALSE
SUMMARY:Great Northwest Oktoberfest - 2025 ~ 2 weekend event
DESCRIPTION:2025 Great Northwest\n\nOktoberfest!\n\n2 GREAT WEEKENDS!\n\nOctober 2 4 & 9-11\n\nThursdays & Fridays   5 11 PM\n\nSaturdays   12 noon   11 PM\n\nFor complete details visit:  https://www.whitefishoktoberfest.com/
X-ALT-DESC;FMTTYPE=text/html:<strong><span style="letter-spacing:.75pt\;"><span style="color:#045D39\;"><span style="font-family:carol-gothic\,serif\;"><span style="font-size:29.0pt\;">2025 Great Northwest<br />\nOktoberfest!</span></span></span></span></strong><br />\n<strong><span style="letter-spacing:.45pt\;"><span style="color:black\;"><span style="font-family:roboto condensed\;"><span style="font-size:15.5pt\;">2 GREAT WEEKENDS!</span></span></span></span></strong><br />\n<strong><span style="letter-spacing:.45pt\;"><span style="color:black\;"><span style="font-family:roboto condensed\;"><span style="font-size:15.5pt\;">October 2&ndash\;4 &amp\; 9-11</span></span></span></span></strong><br />\n<span style="letter-spacing:.45pt\;"><span style="color:black\;"><span style="font-family:roboto condensed\;"><span style="font-size:15.5pt\;">Thursdays &amp\; Fridays &bull\; 5&ndash\;11 PM</span></span></span></span><br />\n<span style="letter-spacing:.45pt\;"><span style="color:black\;"><span style="font-family:roboto condensed\;"><span style="font-size:15.5pt\;">Saturdays &bull\; 12 noon &ndash\; 11 PM</span></span></span></span><br />\nFor complete details visit:&nbsp\; <a href="https://www.whitefishoktoberfest.com/">https://www.whitefishoktoberfest.com/</a>
LOCATION:
UID:e.148.76071
SEQUENCE:3
DTSTAMP:20260422T170259Z
URL:https://business.whitefishchamber.org/events/details/great-northwest-oktoberfest-2025-2-weekend-event-76071
END:VEVENT

END:VCALENDAR
