BEGIN:VCALENDAR
VERSION:2.0
PRODID:-//ChamberMaster//Event Calendar 2.0//EN
METHOD:PUBLISH
X-PUBLISHED-TTL:P3D
REFRESH-INTERVAL:P3D
CALSCALE:GREGORIAN
BEGIN:VEVENT
DTSTART:20251122T190000Z
DTEND:20251123T010000Z
X-MICROSOFT-CDO-ALLDAYEVENT:FALSE
SUMMARY:Griz/Cat Game at the Craggy Range
DESCRIPTION:Saturday's mission:\n\nShow up. Be loud. Make Whitefish Griz Country.\n\nBrawl of the Wild at The Craggy Range   kickoff at 12pm.\n\nGo Griz\, obviously.
X-ALT-DESC;FMTTYPE=text/html:<p>Saturday&rsquo\;s mission:<br />\nShow up. Be loud. Make Whitefish Griz Country.<br />\nBrawl of the Wild at The Craggy Range &mdash\; kickoff at 12pm.</p>\n\n<p>Go Griz\, obviously.</p>\n
LOCATION:Brawl of the Wild at The Craggy Range kickoff at 12pm.
UID:e.148.76962
SEQUENCE:3
DTSTAMP:20260422T182057Z
URL:https://business.whitefishchamber.org/events/details/griz-cat-game-at-the-craggy-range-76962
END:VEVENT

END:VCALENDAR
