BEGIN:VCALENDAR
VERSION:2.0
PRODID:-//ChamberMaster//Event Calendar 2.0//EN
METHOD:PUBLISH
X-PUBLISHED-TTL:P3D
REFRESH-INTERVAL:P3D
CALSCALE:GREGORIAN
BEGIN:VEVENT
DTSTART:20251102T030000Z
DTEND:20251102T054500Z
X-MICROSOFT-CDO-ALLDAYEVENT:FALSE
SUMMARY:Halloween Encore
DESCRIPTION:Let's make it an encore - keep the Halloween spirit alive November 1st with Halloween Encore! Join us for DJ Hannah K debut at the 101 CENTRAL Second Story \, sip wicked cocktails\, and dance the night away on the Second Story dance floor. This is your chance to relive the thrills\, extend the fun\, and celebrate Halloween for one more night.
X-ALT-DESC;FMTTYPE=text/html:Let&rsquo\;s make it an encore - keep the Halloween spirit alive November 1st with Halloween Encore! Join us for DJ Hannah K debut at the 101 CENTRAL Second Story \, sip wicked cocktails\, and dance the night away on the Second Story dance floor. This is your chance to relive the thrills\, extend the fun\, and celebrate Halloween for one more night.
LOCATION:101 Central Ave Whitefish\, MT 59937 Second Story
UID:e.148.76352
SEQUENCE:3
DTSTAMP:20260422T170100Z
URL:https://business.whitefishchamber.org/events/details/halloween-encore-11-01-2025-76352
END:VEVENT

END:VCALENDAR
