BEGIN:VCALENDAR
VERSION:2.0
PRODID:-//ChamberMaster//Event Calendar 2.0//EN
METHOD:PUBLISH
X-PUBLISHED-TTL:P3D
REFRESH-INTERVAL:P3D
CALSCALE:GREGORIAN
BEGIN:VEVENT
DTSTART:20251122T000000Z
DTEND:20251122T040000Z
X-MICROSOFT-CDO-ALLDAYEVENT:FALSE
SUMMARY:Haskill Creek Annual Holiday Shopping Event
DESCRIPTION:Friday\, November 21 | 5 9 PM | 33 Baker Avenue\, Downtown Whitefish\n\nIt's our favorite night of the year and yours too! Join us for Haskill Creek's 3rd Annual Holiday Shopping Party and enjoy 20% off storewide\, raffles\, giveaways\, and festive bites and drinks all evening long.\n\nUnwind with complimentary chair massages\, meet our skincare expert\, and get a head start on your holiday list with free gift wrapping on every purchase.\n\nCome celebrate local\, sip something delicious\, and soak in the holiday spirit Whitefish style.\n\n? The store will be open all day\, but the real party starts at 5 PM!
X-ALT-DESC;FMTTYPE=text/html:<p><strong>Friday\, November 21 | 5&ndash\;9 PM | 33 Baker Avenue\, Downtown Whitefish</strong></p>\n\n<p>It&rsquo\;s our favorite night of the year&mdash\;and yours too! Join us for Haskill Creek&rsquo\;s 3rd Annual Holiday Shopping Party and enjoy 20% off storewide\, raffles\, giveaways\, and festive bites and drinks all evening long.</p>\n\n<p>Unwind with complimentary <strong>chair massages</strong>\, meet our <strong>skincare expert</strong>\, and get a head start on your holiday list with <strong>free gift wrapping</strong> on every purchase.</p>\n\n<p>Come celebrate local\, sip something delicious\, and soak in the holiday spirit&mdash\;Whitefish style.</p>\n\n<p>? <em>The store will be open all day\, but the real party starts at 5 PM!</em></p>\n<br />\n&nbsp\;
LOCATION:Haskill Creek Wellness Boutique 33 Baker Avenue Whitefish\, MT 59937
UID:e.148.76711
SEQUENCE:3
DTSTAMP:20260422T171904Z
URL:https://business.whitefishchamber.org/events/details/haskill-creek-annual-holiday-shopping-event-76711
END:VEVENT

END:VCALENDAR
