BEGIN:VCALENDAR
VERSION:2.0
PRODID:-//ChamberMaster//Event Calendar 2.0//EN
METHOD:PUBLISH
X-PUBLISHED-TTL:P3D
REFRESH-INTERVAL:P3D
CALSCALE:GREGORIAN
BEGIN:VEVENT
DTSTART:20251214T190000Z
DTEND:20251214T220000Z
X-MICROSOFT-CDO-ALLDAYEVENT:FALSE
SUMMARY:Holiday High Tea at The Lodge
DESCRIPTION:Bring your little ones (and grownups) to the Lodge for a festive\, traditional High Tea\, with finger sandwiches\, fancy pastries and treats\, a selection of holiday-themed teas\, served in our beautifully decorated-for-the-holidays Dining Room overlooking Whitefish Lake. Enjoy festive harp music and a visit from Santa! A photographer will be ready to capture the moment with a free photo print to take home.\n\n$48 per seat/person | Reservations required | Seating is limited | Call 406-863-4040
X-ALT-DESC;FMTTYPE=text/html:<div>\n<p>Bring your little ones (and grownups) to the Lodge for a festive\, traditional High Tea\, with finger sandwiches\, fancy pastries and treats\, a selection of holiday-themed teas\, served in our beautifully decorated-for-the-holidays Dining Room overlooking Whitefish Lake. Enjoy festive harp music and a visit from Santa! A photographer will be ready to capture the moment with a free photo print to take home.</p>\n\n<p><strong>$48 per seat/person |&nbsp\;Reservations required | Seating is limited | Call 406-863-4040</strong></p>\n</div>\n
LOCATION:The Lodge at Whitefish Lake 1380 Wisconsin Ave Whitefish\, MT
UID:e.148.76726
SEQUENCE:3
DTSTAMP:20260422T193814Z
URL:https://business.whitefishchamber.org/events/details/holiday-high-tea-at-the-lodge-12-14-2025-76726
END:VEVENT

END:VCALENDAR
