BEGIN:VCALENDAR
VERSION:2.0
PRODID:-//ChamberMaster//Event Calendar 2.0//EN
METHOD:PUBLISH
X-PUBLISHED-TTL:P3D
REFRESH-INTERVAL:P3D
CALSCALE:GREGORIAN
BEGIN:VEVENT
DTSTART:20251115T173000Z
DTEND:20251115T183000Z
X-MICROSOFT-CDO-ALLDAYEVENT:FALSE
SUMMARY:Hormones & the Holidays with PEAK Fit & Wellness Kalispell
DESCRIPTION:Learn how to manage your hormones and stress of the holidays with Peak Fit & Wellness and Dr. Andrea Emde of The Vitality Doc.  @thevitalitydoc  \n\nhttps://peakfitmt.com
X-ALT-DESC;FMTTYPE=text/html:Learn how to manage your hormones and stress of the holidays with Peak Fit &amp\; Wellness and Dr. Andrea Emde of The Vitality Doc.&nbsp\; @thevitalitydoc&nbsp\;&nbsp\;<br />\nhttps://peakfitmt.com<br />\n&nbsp\;
LOCATION:
UID:e.148.76716
SEQUENCE:3
DTSTAMP:20260422T170749Z
URL:https://business.whitefishchamber.org/events/details/hormones-the-holidays-with-peak-fit-wellness-kalispell-76716
END:VEVENT

END:VCALENDAR
