BEGIN:VCALENDAR
VERSION:2.0
PRODID:-//ChamberMaster//Event Calendar 2.0//EN
METHOD:PUBLISH
X-PUBLISHED-TTL:P3D
REFRESH-INTERVAL:P3D
CALSCALE:GREGORIAN
BEGIN:VEVENT
DTSTART:20251115T000000Z
DTEND:20251115T040000Z
X-MICROSOFT-CDO-ALLDAYEVENT:FALSE
SUMMARY:Ladies Night Out at The Firebrand
DESCRIPTION:Grab your girlfriends & break out the neon\, leg warmers & big hair...LNO is back in downtown Whitefish. Start the night at The Firebrand with our featured LNO Espresso Martini for just $10\, register to win a one-night stay at The Firebrand\, plus\, buy a $100 hotel gift card and receive an additional $10 gift card   good for lodging\, restaurant or spa! \n\n\n\n\n\nShop\, sip\, laugh & dance your way through a totally tubular night of fun\, prizes and 80s vibes as shops\, restaurants & bars throughout downtown offer specials just for the ladies!
X-ALT-DESC;FMTTYPE=text/html:<div style="margin-left:auto\; margin-right:auto">\n<div>\n<p>Grab your girlfriends &amp\; break out the neon\, leg warmers &amp\; big hair...LNO is back in downtown Whitefish. Start the night at The Firebrand with our featured LNO Espresso Martini for just $10\, register to win a one-night stay at The Firebrand\, plus\, buy a $100 hotel gift card and receive an additional $10 gift card &ndash\; good for lodging\, restaurant or spa!&nbsp\;</p>\n</div>\n</div>\n\n<div style="margin-left:auto\; margin-right:auto">\n<div>\n<p>Shop\, sip\, laugh &amp\; dance your way through a totally tubular night of fun\, prizes and 80s vibes as shops\, restaurants &amp\; bars throughout downtown offer specials just for the ladies!</p>\n</div>\n</div>\n
LOCATION:The Firebrand Hotel & Restaurant 650 E Second Street Whitefish
UID:e.148.76621
SEQUENCE:3
DTSTAMP:20260422T170440Z
URL:https://business.whitefishchamber.org/events/details/ladies-night-out-at-the-firebrand-76621
END:VEVENT

END:VCALENDAR
