BEGIN:VCALENDAR
VERSION:2.0
PRODID:-//ChamberMaster//Event Calendar 2.0//EN
METHOD:PUBLISH
X-PUBLISHED-TTL:P3D
REFRESH-INTERVAL:P3D
CALSCALE:GREGORIAN
BEGIN:VEVENT
DTSTART:20260224T003000Z
DTEND:20260224T020000Z
X-MICROSOFT-CDO-ALLDAYEVENT:FALSE
SUMMARY:Lady A’s 14U Softball Tryouts – Sponsored by IWD406
DESCRIPTION:Lady A's 14U Softball Tryouts   Sponsored by IWD406\n\nEvent Description:\n\nIWD406 is proud to serve as a promotional sponsor for the Lady A's 14U Softball Team   the first girls' softball team associated with the Blades Association in Whitefish.\n\nThis exciting launch marks a powerful step forward for young female athletes in our community. The Lady A's are building a competitive and supportive summer program for girls ready to grow their skills\, confidence\, and love for the game.\n\nIf you know a young athlete who would love to be part of the first Lady A's Softball Team\, we encourage her to attend one of the open tryout dates below.\n\nTryout Dates:\n\n  February 14 | 12:00 PM   1:30 PM\n\n  February 16 | 5:30 PM   7:00 PM\n\n  February 23 | 5:30 PM   7:00 PM\n\n  March 15 | 12:00 PM   1:30 PM\n\nLocation:\n\n5068 US Highway 93 S\, Suite 1\n\nWhitefish\, MT\n\nHead Coach: Evette Morgan\n\nJoin the Lady A's for a fun and competitive summer ball season and be part of this inaugural team.\n\nQuestions?\n\nContact Coach Evette Morgan\n\n(406) 465-1546\n\nevettemorgan5@gmail.com\n\nRegistration details available at:\n\nwww.bladesapa.com\n\nIWD406 is honored to support opportunities that empower young women in athletics and leadership across Montana.
X-ALT-DESC;FMTTYPE=text/html:<p>Lady A&rsquo\;s 14U Softball Tryouts &ndash\; Sponsored by IWD406</p>\n\n<p><strong>Event Description:</strong><br />\nIWD406 is proud to serve as a promotional sponsor for the Lady A&rsquo\;s 14U Softball Team &mdash\; the first girls&rsquo\; softball team associated with the Blades Association in Whitefish.</p>\n\n<p>This exciting launch marks a powerful step forward for young female athletes in our community. The Lady A&rsquo\;s are building a competitive and supportive summer program for girls ready to grow their skills\, confidence\, and love for the game.</p>\n\n<p>If you know a young athlete who would love to be part of the first Lady A&rsquo\;s Softball Team\, we encourage her to attend one of the open tryout dates below.</p>\n\n<p><strong>Tryout Dates:</strong><br />\n&bull\; February 14 | 12:00 PM &ndash\; 1:30 PM<br />\n&bull\; February 16 | 5:30 PM &ndash\; 7:00 PM<br />\n&bull\; February 23 | 5:30 PM &ndash\; 7:00 PM<br />\n&bull\; March 15 | 12:00 PM &ndash\; 1:30 PM</p>\n\n<p><strong>Location:</strong><br />\n5068 US Highway 93 S\, Suite 1<br />\nWhitefish\, MT</p>\n\n<p>Head Coach: Evette Morgan</p>\n\n<p>Join the Lady A&rsquo\;s for a fun and competitive summer ball season and be part of this inaugural team.</p>\n\n<p><strong>Questions?</strong><br />\nContact Coach Evette Morgan<br />\n(406) 465-1546<br />\nevettemorgan5@gmail.com</p>\n\n<p>Registration details available at:<br />\nwww.bladesapa.com</p>\n\n<p>IWD406 is honored to support opportunities that empower young women in athletics and leadership across Montana.</p>\n
LOCATION:5068 US Highway 93 S\, Suite 1 Whitefish\, MT
UID:e.148.83069
SEQUENCE:3
DTSTAMP:20260422T221926Z
URL:https://business.whitefishchamber.org/events/details/lady-a-s-14u-softball-tryouts-sponsored-by-iwd406-83069
END:VEVENT

END:VCALENDAR
