BEGIN:VCALENDAR
VERSION:2.0
PRODID:-//ChamberMaster//Event Calendar 2.0//EN
METHOD:PUBLISH
X-PUBLISHED-TTL:P3D
REFRESH-INTERVAL:P3D
CALSCALE:GREGORIAN
BEGIN:VEVENT
DTSTART:20250426T163000Z
DTEND:20250426T183000Z
X-MICROSOFT-CDO-ALLDAYEVENT:FALSE
SUMMARY:Learn to Hand-Dye Yarn (no experience necessary)
DESCRIPTION:Have you ever wanted to try your hand at creating a unique yarn color all your own? Come and dye with Jenny B in the Polka Dot Sheep Yarn Studio. You will be able to dye up to four skeins of your color yarn in class. We will have two sessions on Saturday\, April 26th.\n\nEach Class limited to 6 participants. NO EXPERIENCE NECESSARY.\n\nClass Start Time Options: 10:30 am - 12:30 pm\, 2 pm - 4 pm\n\nNeeded Yarn Bases will be available for purchase in store\, a variety of bases are available. Class participants receive 10% off your bases cost.\n\nClass Participants MUST WEAR closed toed shoes and long pants. Other equipment and gear will be provided. Be prepared to be a bit messy!!!
X-ALT-DESC;FMTTYPE=text/html:<p><span style="font-family:verdana\,geneva\; font-size:small">Have you ever wanted to try your hand at creating a unique yarn color all your own? Come and dye with Jenny B in the Polka Dot Sheep Yarn Studio. You will be able to dye up to four skeins of your color yarn in class. We will have two sessions on Saturday\, April 26th.</span></p>\n\n<p><span style="font-family:verdana\,geneva\; font-size:small">Each Class limited to 6 participants. NO EXPERIENCE NECESSARY.</span></p>\n\n<p><span style="font-family:verdana\,geneva\; font-size:small"><strong>Class Start Time Options</strong>: 10:30 am - 12:30 pm\, 2 pm - 4 pm</span></p>\n\n<p><span style="font-family:verdana\,geneva\; font-size:small"><strong>Needed Yarn Bases</strong>&nbsp\;will be available for purchase in store\, a variety of bases are available.&nbsp\;Class participants receive 10% off your bases cost.</span></p>\n\n<p><span style="font-family:verdana\,geneva\; font-size:small">Class Participants&nbsp\;<span style="background-color:rgb(255\, 255\, 0)">MUST WEAR</span>&nbsp\;closed toed shoes and long pants. Other equipment and gear will be provided. Be prepared to be a bit messy!!!</span></p>\n
LOCATION:Polka Dot Sheep Fine Yarns 14 Lupfer Av Whitefish\, MT 59937
UID:e.148.75033
SEQUENCE:3
DTSTAMP:20260422T164907Z
URL:https://business.whitefishchamber.org/events/details/learn-to-hand-dye-yarn-no-experience-necessary-75033
END:VEVENT

END:VCALENDAR
