BEGIN:VCALENDAR
VERSION:2.0
PRODID:-//ChamberMaster//Event Calendar 2.0//EN
METHOD:PUBLISH
X-PUBLISHED-TTL:P3D
REFRESH-INTERVAL:P3D
CALSCALE:GREGORIAN
BEGIN:VEVENT
DTSTART:20251219T220000Z
DTEND:20251220T010000Z
X-MICROSOFT-CDO-ALLDAYEVENT:FALSE
SUMMARY:Live Holiday Music in The Lodge Lobby
DESCRIPTION:Get into the holiday spirit with festive live music in the lobby at The Lodge at Whitefish Lake!\n\n	Dec 15 with Brittany Bauer \n	Dec 16 with Hannah King \n	Dec 17 with Katherine King \n	Dec 18 with Randy Marshall \n	Dec 19 with Kelly Diane \n	Dec 20 with Hannah King \n	Dec 21 with Randy Marshall \n	Dec 22 - with Christianne Hinterman\n	Dec 23 with Rylee Mix \n	Dec 24 with Christianne Hinterman \n	Dec 25   No live music during Christmas Buffet \n	Dec 26 with Katherine King \n	Dec 27 with Kelly Diane \n	Dec 28 with Will Peterson \n	Dec 29 with Katherine King \n	Dec 30 with Hannah King \n	Dec 31 with Kelly Diane \n\n\nDue to the Holiday Buffet there will be no live music on Christmas Day
X-ALT-DESC;FMTTYPE=text/html:Get into the holiday spirit with festive live music in the lobby at The Lodge at Whitefish Lake!\n<ul>\n	<li>Dec 15 with Brittany Bauer&nbsp\;</li>\n	<li>Dec 16 with Hannah King&nbsp\;</li>\n	<li>Dec 17 with Katherine King&nbsp\;</li>\n	<li>Dec 18 with Randy Marshall&nbsp\;</li>\n	<li>Dec 19 with Kelly Diane&nbsp\;</li>\n	<li>Dec 20 with Hannah King&nbsp\;</li>\n	<li>Dec 21 with Randy Marshall&nbsp\;</li>\n	<li>Dec 22 - with Christianne Hinterman</li>\n	<li>Dec 23 with Rylee Mix&nbsp\;</li>\n	<li>Dec 24 with Christianne Hinterman&nbsp\;</li>\n	<li><strong>Dec 25 &ndash\; No live music during Christmas Buffet&nbsp\;</strong></li>\n	<li>Dec 26 with Katherine King&nbsp\;</li>\n	<li>Dec 27 with Kelly Diane&nbsp\;</li>\n	<li>Dec 28 with Will Peterson&nbsp\;</li>\n	<li>Dec 29 with Katherine King&nbsp\;</li>\n	<li>Dec 30 with Hannah King&nbsp\;</li>\n	<li>Dec 31 with Kelly Diane&nbsp\;</li>\n</ul>\n\n<p><em>Due to the Holiday Buffet there will be no live music on Christmas Day</em></p>\n
LOCATION:The Lodge at Whitefish Lake 1380 Wisconsin Ave Whitefish
UID:e.148.76948
SEQUENCE:3
DTSTAMP:20260422T194258Z
URL:https://business.whitefishchamber.org/events/details/live-holiday-music-in-the-lodge-lobby-12-19-2025-76948
END:VEVENT

END:VCALENDAR
