BEGIN:VCALENDAR
VERSION:2.0
PRODID:-//ChamberMaster//Event Calendar 2.0//EN
METHOD:PUBLISH
X-PUBLISHED-TTL:P3D
REFRESH-INTERVAL:P3D
CALSCALE:GREGORIAN
BEGIN:VEVENT
DTSTART:20260314T000000Z
DTEND:20260314T030000Z
X-MICROSOFT-CDO-ALLDAYEVENT:FALSE
SUMMARY:Live Music at The Boat Club Bar featuring Brent Jameson
DESCRIPTION:Join us for live music at The Boat Club Bar with Brent Jameson!
X-ALT-DESC;FMTTYPE=text/html:Join us for live music at The Boat Club Bar with Brent Jameson!
LOCATION:The Boat Club Bar 1380 Wisconsin Ave Whitefish
UID:e.148.83342
SEQUENCE:3
DTSTAMP:20260422T231929Z
URL:https://business.whitefishchamber.org/events/details/live-music-at-the-boat-club-bar-featuring-brent-jameson-03-13-2026-83342
END:VEVENT

END:VCALENDAR
