BEGIN:VCALENDAR
VERSION:2.0
PRODID:-//ChamberMaster//Event Calendar 2.0//EN
METHOD:PUBLISH
X-PUBLISHED-TTL:P3D
REFRESH-INTERVAL:P3D
CALSCALE:GREGORIAN
BEGIN:VEVENT
DTSTART:20260214T010000Z
DTEND:20260214T040000Z
X-MICROSOFT-CDO-ALLDAYEVENT:FALSE
SUMMARY:Live Music at The Boat Club Bar featuring Kelly Diane
DESCRIPTION:Celebrate Valentine's Day early with live music in The Boat Club Bar featuring local pianist\, Kelly Diane! Don't forget to make your special Valentine's Day Dinner reservations in the Dining Room! In addition to our regular menu we're featuring a chef-inspired 3-course tasting menu!
X-ALT-DESC;FMTTYPE=text/html:Celebrate Valentine&#39\;s Day early with live music in The Boat Club Bar featuring local pianist\, Kelly Diane! Don&#39\;t forget to make your special Valentine&#39\;s Day Dinner reservations in the Dining Room! In addition to our regular menu we&#39\;re featuring a chef-inspired 3-course tasting menu!&nbsp\;
LOCATION:The Boat Club at The Lodge at Whitefish Lake 1380 Wisconsin Ave Whitefish
UID:e.148.83048
SEQUENCE:3
DTSTAMP:20260422T210719Z
URL:https://business.whitefishchamber.org/events/details/live-music-at-the-boat-club-bar-featuring-kelly-diane-02-13-2026-83048
END:VEVENT

END:VCALENDAR
