BEGIN:VCALENDAR
VERSION:2.0
PRODID:-//ChamberMaster//Event Calendar 2.0//EN
METHOD:PUBLISH
X-PUBLISHED-TTL:P3D
REFRESH-INTERVAL:P3D
CALSCALE:GREGORIAN
BEGIN:VEVENT
DTSTART:20260124T010000Z
DTEND:20260124T040000Z
X-MICROSOFT-CDO-ALLDAYEVENT:FALSE
SUMMARY:Live Music at The Boat Club Bar featuring Kelly Diane
DESCRIPTION:Join us for live music in The Boat Club Bar featuring local pianist\, Kelly Diane!
X-ALT-DESC;FMTTYPE=text/html:Join us for live music in The Boat Club Bar featuring local pianist\, Kelly Diane!
LOCATION:The Boat Club Bar 1380 Wisconsin Ave Whitefish
UID:e.148.65024
SEQUENCE:3
DTSTAMP:20260422T210808Z
URL:https://business.whitefishchamber.org/events/details/live-music-at-the-boat-club-bar-featuring-kelly-diane-06-02-2023-65024
END:VEVENT

END:VCALENDAR
