BEGIN:VCALENDAR
VERSION:2.0
PRODID:-//ChamberMaster//Event Calendar 2.0//EN
METHOD:PUBLISH
X-PUBLISHED-TTL:P3D
REFRESH-INTERVAL:P3D
CALSCALE:GREGORIAN
BEGIN:VEVENT
DTSTART:20251127T010000Z
DTEND:20251127T040000Z
X-MICROSOFT-CDO-ALLDAYEVENT:FALSE
SUMMARY:Live Music at The Boat Club Bar featuring Matthew Morris
DESCRIPTION:A singer\, songwriter & guitar player Matthew's music is a tasteful blend of bluegrass & folk.
X-ALT-DESC;FMTTYPE=text/html:<div><span style="color:rgb(5\, 5\, 5)\; font-size:15px">A singer\, songwriter &amp\; guitar player Matthew&#39\;s music is a tasteful blend of bluegrass &amp\; folk.&nbsp\;</span></div>\n
LOCATION:The Boat Club Bar at The Lodge at Whitefish Lake 1380 Wisconsin Avenue Whitefish\, MT
UID:e.148.76685
SEQUENCE:3
DTSTAMP:20260422T170835Z
URL:https://business.whitefishchamber.org/events/details/live-music-at-the-boat-club-bar-featuring-matthew-morris-11-26-2025-76685
END:VEVENT

END:VCALENDAR
